BEGIN:VCALENDAR
VERSION:2.0
PRODID:-//jEvents 2.0 for Joomla//EN
CALSCALE:GREGORIAN
METHOD:PUBLISH
BEGIN:VEVENT
UID:965ba9c7aa5763667c71fd0c1916be4e
CATEGORIES:6. Bezirk
CREATED:20221111T215200
SUMMARY:Babymassage in Kleingruppe (Weihnachtskurs)
LOCATION:6.\, Sandwirtgasse 13/12
DESCRIPTION:Babymassage in Kleingruppe "Beziehung durch Berührung"Für dein Baby sind de
 ine Berührungen und deine körperliche Nähe sehr wichtig, damit es sich geis
 tig und seelisch gesund entwickeln kann. Die innige Zeit stärkt eure Bezieh
 ung und ist das Fundament für das Urvertrauen deines Babys. Deine Berührung
 en beim Streicheln, Massieren, Tragen und Kuscheln, vermitteln ihm Geborgen
 heit und Sicherheit. Was erwartet dich:\nWie dein Baby all dies genießen un
 d davon körperlich und emotional profitieren kann, zeige ich dir in ruhiger
  Wohlfühl-Atmosphäre im Biolino Institut. Kursinformationen:\n- 3 Einheiten
  zu je 60 Minuten\n- gemütliche Kleingruppe mit maximal 4 Babys Weihnachtsk
 urs: \n1., 15. und 22. Dezember 2022\nUhrzeit: 13.30 - 14.30 Uhr\nKosten: €
  89,- Du erfährst alle wichtigen Grundlagen der Babymassage und kannst am E
 nde des Kurses dein Baby bei körperlichen und emotionalen Beschwerden unter
 stützen. Für die Massage wird ein biologisches Öl zur Verfügung gestellt. D
 u erhältst außerdem ein ausführliches Handout mit allen Techniken und Griff
 en und ein exklusives Goodie-Bag. Nach der Babymassage gibt es genug Zeit u
 nd Raum für Austausch untereinander und die Beantwortung von Fragen. Weiter
 e Informationen und Anmeldung hier: Babymassage (https://www.biolino.at/bab
 ymassage/kleingruppen-babymassage/) Bitte bring Folgendes zum Babymassageku
 rs mit:\n- ein Handtuch\n- gemütliche Kleidung für dich, die auch ölig werd
 en darf\nDie Babymassage ist für Babys ab ca. 4 Wochen, bis zum individuell
 en Krabbelalter (ca. 6-8 Monate) geeignet. Ich freue mich auf eine entspann
 te, gemütliche Babymassage mit euch!Alles Liebe,\nMartina \nhttps://www.bio
 lino.at/babymassage/kleingruppen-babymassage/ (https://www.biolino.at/babym
 assage/kleingruppen-babymassage/)\n
X-ALT-DESC;FMTTYPE=text/html:<h1 class="xdj266r x11i5rnm xat24cr x1mh8g0r x1vvkbs"><strong>Babymassage i
 n Kleingruppe</strong></h1><div class="xdj266r x11i5rnm xat24cr x1mh8g0r x1
 vvkbs"> </div><h2 class="xdj266r x11i5rnm xat24cr x1mh8g0r x1vvkbs"><strong
 >"Beziehung durch Berührung"</strong></h2><div class="x11i5rnm xat24cr x1mh
 8g0r x1vvkbs xtlvy1s">Für dein Baby sind deine Berührungen und deine körper
 liche Nähe sehr wichtig, damit es sich geistig und seelisch gesund entwicke
 ln kann. Die innige Zeit stärkt eure Beziehung und ist das Fundament für da
 s Urvertrauen deines Babys. Deine Berührungen beim Streicheln, Massieren, T
 ragen und Kuscheln, vermitteln ihm Geborgenheit und Sicherheit.</div><div c
 lass="x11i5rnm xat24cr x1mh8g0r x1vvkbs xtlvy1s"> </div><div class="x11i5rn
 m xat24cr x1mh8g0r x1vvkbs xtlvy1s"><strong>Was erwartet dich:</strong><br 
 />Wie dein Baby all dies genießen und davon körperlich und emotional profit
 ieren kann, zeige ich dir in ruhiger Wohlfühl-Atmosphäre im Biolino Institu
 t.</div><div class="x11i5rnm xat24cr x1mh8g0r x1vvkbs xtlvy1s"> </div><div 
 class="x11i5rnm xat24cr x1mh8g0r x1vvkbs xtlvy1s">Kursinformationen:<br />-
  3 Einheiten zu je 60 Minuten<br />- gemütliche Kleingruppe mit maximal 4 B
 abys</div><div class="x11i5rnm xat24cr x1mh8g0r x1vvkbs xtlvy1s"> </div><di
 v class="x11i5rnm xat24cr x1mh8g0r x1vvkbs xtlvy1s"><strong>Weihnachtskurs:
 </strong> <br />1., 15. und 22. Dezember 2022<br />Uhrzeit: 13.30 - 14.30 U
 hr<br />Kosten: € 89,-</div><div class="x11i5rnm xat24cr x1mh8g0r x1vvkbs x
 tlvy1s"> </div><div class="x11i5rnm xat24cr x1mh8g0r x1vvkbs xtlvy1s">Du er
 fährst alle wichtigen Grundlagen der Babymassage und kannst am Ende des Kur
 ses dein Baby bei körperlichen und emotionalen Beschwerden unterstützen. Fü
 r die Massage wird ein biologisches Öl zur Verfügung gestellt. Du erhältst 
 außerdem ein ausführliches Handout mit allen Techniken und Griffen und ein 
 exklusives Goodie-Bag.</div><div class="x11i5rnm xat24cr x1mh8g0r x1vvkbs x
 tlvy1s"> </div><div class="x11i5rnm xat24cr x1mh8g0r x1vvkbs xtlvy1s">Nach 
 der Babymassage gibt es genug Zeit und Raum für Austausch untereinander und
  die Beantwortung von Fragen.</div><div class="x11i5rnm xat24cr x1mh8g0r x1
 vvkbs xtlvy1s"> </div><div class="x11i5rnm xat24cr x1mh8g0r x1vvkbs xtlvy1s
 ">Weitere Informationen und Anmeldung hier: <a href="https://www.biolino.at
 /babymassage/kleingruppen-babymassage/">Babymassage</a></div><div class="x1
 1i5rnm xat24cr x1mh8g0r x1vvkbs xtlvy1s"> </div><div class="x11i5rnm xat24c
 r x1mh8g0r x1vvkbs xtlvy1s">Bitte bring Folgendes zum Babymassagekurs mit:<
 br />- ein Handtuch<br />- gemütliche Kleidung für dich, die auch ölig werd
 en darf</div><div class="x11i5rnm xat24cr x1mh8g0r x1vvkbs xtlvy1s"><br />D
 ie Babymassage ist für Babys ab ca. 4 Wochen, bis zum individuellen Krabbel
 alter (ca. 6-8 Monate) geeignet.</div><div class="x11i5rnm xat24cr x1mh8g0r
  x1vvkbs xtlvy1s"> </div><div class="x11i5rnm xat24cr x1mh8g0r x1vvkbs xtlv
 y1s">Ich freue mich auf eine entspannte, gemütliche Babymassage mit euch!</
 div><div class="x11i5rnm xat24cr x1mh8g0r x1vvkbs xtlvy1s">Alles Liebe,<br 
 />Martina</div><p> </p><p><a href="https://www.biolino.at/babymassage/klein
 gruppen-babymassage/">https://www.biolino.at/babymassage/kleingruppen-babym
 assage/</a></p>
CONTACT:martina.novak@biolino.at, 067762892970
X-EXTRAINFO:[preis='8900'][anmeldung='true']
DTSTAMP:20260423T155220
DTSTART:20221201T123000
DTEND:20221201T133000
SEQUENCE:0
TRANSP:OPAQUE
END:VEVENT
END:VCALENDAR