BEGIN:VCALENDAR
VERSION:2.0
PRODID:-//jEvents 2.0 for Joomla//EN
CALSCALE:GREGORIAN
METHOD:PUBLISH
BEGIN:VEVENT
UID:f99008da66897d479a9061e2aded8e45
CATEGORIES:6. Bezirk
CREATED:20221111T215704
SUMMARY:Nikolo Baby-Cafe
LOCATION:6.\, Sandwirtgasse 13/12
DESCRIPTION:Nikolo Baby-CaféKaffeehaus-Flair mit Kinderspielzeug und NikolobesuchWann: 
 Mo., 5. Dezember 2022\nUhrzeit: 9.00 - 12.00 Uhr\nWo: Biolino Institut, San
 dwirtgasse 13, 1060 Wien\nKosten: € 18,- Eintritt pro Begleitperson, inkl. 
 Spielbeitrag, Heißgetränk, Nikolojause, Nikolobesuch, Nikolosackerl\nDu kan
 nst jederzweit zwischen 9.00 und 12.00 Uhr vorbei kommen. Um 10.00 Uhr komm
 t der Nikolo uns besuchen. Er hat für jedes Kind ein Nikolosackerl vorberei
 tet. \n \nMIT ANMELDUNG!\nhttps://www.biolino.at/baby-cafe/ (https://www.bi
 olino.at/baby-cafe/)\n \nIch freue mich auf dich!\nAlles Liebe,\nMartina\n 
 \nEin Platz ist für dich fix! Bitte beachte unsere AGB's bei deiner verbind
 lichen Anmeldung!\n
X-ALT-DESC;FMTTYPE=text/html:<div class="eventContent"><div class="eventContent"><h1>Nikolo Baby-Café</h
 1><h2>Kaffeehaus-Flair mit Kinderspielzeug und Nikolobesuch</h2><p><strong>
 Wann</strong>: Mo., 5. Dezember 2022</p><p><strong>Uhrzeit</strong>: 9.00 -
  12.00 Uhr</p><p><strong>Wo</strong>: Biolino Institut, Sandwirtgasse 13, 1
 060 Wien</p><p><strong>Kosten</strong>: € 18,- Eintritt pro Begleitperson, 
 inkl. Spielbeitrag, Heißgetränk, Nikolojause, Nikolobesuch, Nikolosackerl</
 p><p>Du kannst jederzweit zwischen 9.00 und 12.00 Uhr vorbei kommen. Um 10.
 00 Uhr kommt der Nikolo uns besuchen. Er hat für jedes Kind ein Nikolosacke
 rl vorbereitet. </p><p> </p><p><strong>MIT ANMELDUNG!</strong></p><p><a hre
 f="https://www.biolino.at/baby-cafe/">https://www.biolino.at/baby-cafe/</a>
 </p><p> </p><p>Ich freue mich auf dich!</p><p>Alles Liebe,</p><p>Martina</p
 ><p> </p><p>Ein Platz ist für dich fix! Bitte beachte unsere AGB's bei dein
 er verbindlichen Anmeldung!</p></div></div>
CONTACT:martina.novak@biolino.at, 067762892970
X-EXTRAINFO:[preis='1800'][anmeldung='true']
DTSTAMP:20260423T155239
DTSTART:20221205T080000
DTEND:20221205T110000
SEQUENCE:0
TRANSP:OPAQUE
END:VEVENT
END:VCALENDAR