BEGIN:VCALENDAR
VERSION:2.0
PRODID:-//jEvents 2.0 for Joomla//EN
CALSCALE:GREGORIAN
METHOD:PUBLISH
BEGIN:VEVENT
UID:0ad43388f2307fe301c908da03fbace6
CATEGORIES:1. Bezirk
CREATED:20221116T123223
SUMMARY:Workshop " Keine Angst vor Babytränen"
LOCATION:Malacht Kinderarztpraxis\, Oppolzergasse 6/8\, 1010 Wien
DESCRIPTION:<p>In diesem Workshop erfahren Eltern hilfreiches Wissen, warum manche Baby
 s viel weinen und was sie in diesen Phasen besonders brauchen. Auch geht es
  darum, die Eltern in ihrer Haltefähigkeit zu stärken. Einfache Körper- und
  Wahrnehmungsübungen werden erprobt, die Mamas und Papas dabei helfen, gut 
 durch den oftmals herausfordernden Alltag zu finden. Die Emotionelle Erste 
 Hilfe kennt viele Wegen um Familien rund um das Babyweinen gut unterstützen
  zu können.</p>
CONTACT:hallo@susanneschmid.at
X-EXTRAINFO:[preis='4500'][anmeldung='true']
DTSTAMP:20260423T085612
DTSTART:20221125T090000
DTEND:20221125T103000
SEQUENCE:0
TRANSP:OPAQUE
END:VEVENT
END:VCALENDAR