BEGIN:VCALENDAR
VERSION:2.0
PRODID:-//jEvents 2.0 for Joomla//EN
CALSCALE:GREGORIAN
METHOD:PUBLISH
BEGIN:VEVENT
UID:efccf71c59429714d8eb4e94fc5e8bbd
CATEGORIES:Wien Umgebung
CREATED:20221118T112201
SUMMARY:Musik & Klang Adventkalender kostenfrei
LOCATION:Facebook Gruppe
DESCRIPTION:<p style="text-align: center;">Heuer lade ich Dich herzlich zu meinem <span
  style="text-decoration: underline;"><strong>kostenfreien ADVENTKALENDER</s
 trong> </span>ein !</p><p style="text-align: center;"><strong>24 Musik &amp
 ; Klang Häppchen/Türchen für Klein &amp; Groß warten auf Dich.</strong></p>
 <p>Lass uns gemeinsam das Jahr 2022 klangmusikalisch &amp; fröhlich abschli
 eßen! Jeden Tag wird 1 Türchen für Dich geöffnet rund um die Themen Musik &
 amp; Klang, Gitarre, Ukulele, Entspannung oder etwas für Kinder!</p><p>??BO
 NUS !! ??Noch dazu hast Du die Möglichkeit 24 Preise zu gewinnen!</p><p sty
 le="text-align: center;"><span style="text-decoration: underline;"><em><str
 ong>SO BIST DU DABEI:</strong></em></span></p><p><strong>?</strong> Melde D
 ich auf meiner Homepage <a href="http://www.2-Klang.at">www.2-Klang.at</a> 
 zu meinem Newsletter/Adventkalender an, bestätige die Mail die Du bekommst 
 und der Link zur Facebookgruppe wird Dir direkt geschickt und Du kannst bei
 tretet.</p><p>ICH FREUE MICH AUF DICH ! Deine Babsi</p><p style="text-align
 : center;">P.S. Möchtest Du noch einen Adventkalender bestellen, ist es noc
 h bis 27.11. per Mail möglich.</p><p style="text-align: center;"><strong>?G
 RIFFventkalender Gitarre</strong></p><p style="text-align: center;"><strong
 >?Eine musikalische Weihnachtsreise für Kinder</strong></p><p style="text-a
 lign: center;"><strong>?Seelenkisterl - 24 Wohlfühltipps für einen entspann
 ten Jahresausklang</strong></p><p style="text-align: center;"><strong>Schau
 e diesbezüglich für Infos auf meine FB Seite "Klang &amp; Musikworkshops"</
 strong></p>
CONTACT:www.2-Klang.at
X-EXTRAINFO:[preis='000'][anmeldung='true']
DTSTAMP:20260423T124008
DTSTART:20221201T070000
DTEND:20221224T160000
SEQUENCE:0
TRANSP:OPAQUE
END:VEVENT
END:VCALENDAR