BEGIN:VCALENDAR
VERSION:2.0
PRODID:-//jEvents 2.0 for Joomla//EN
CALSCALE:GREGORIAN
METHOD:PUBLISH
BEGIN:VEVENT
UID:aebc071659b001531b9001fa43e6d0ac
CATEGORIES:9. Bezirk
CREATED:20221121T192617
SUMMARY:BABYKINO - Aftersun (OmU)
LOCATION:Votiv Kino\, Währinger Straße 12\, 1090 Wien
DESCRIPTION:Jeden zweiten Dienstag laufen die wichtigsten Filme aus unserem Programm al
 s Babykino Vorstellungen in einem nicht gänzlich abgedunkeltem Saal mit etw
 as leiserem Ton. \nVor der Vorstellung kann man sich in unserem Café zu Kaf
 fee und Kuchen treffen, und während des Films stehen Wickeltische und ein F
 laschenwärmer zur Verfügung.\n\nProgramm 20.12.2022:\n11:00 EMILY (UK/US 20
 22)\n11:30 AFTERSUN (UK/US 2022)\n\nTickets und mehr Information zu den Fil
 men hier.\n
X-ALT-DESC;FMTTYPE=text/html:<p>Jeden zweiten Dienstag laufen die wichtigsten Filme aus unserem Programm
  als Babykino Vorstellungen in einem nicht gänzlich abgedunkeltem Saal mit 
 etwas leiserem Ton. <br />Vor der Vorstellung kann man sich in unserem Café
  zu Kaffee und Kuchen treffen, und während des Films stehen Wickeltische un
 d ein Flaschenwärmer zur Verfügung.<br /><br />Programm 20.12.2022:<br />11
 :00 EMILY (UK/US 2022)<br />11:30 AFTERSUN (UK/US 2022)<br /><br />Tickets 
 und mehr Information zu den Filmen hier.</p>
X-EXTRAINFO:[preis='750'][anmeldung='false']
DTSTAMP:20260423T122547
DTSTART:20221220T103000
SEQUENCE:0
TRANSP:OPAQUE
END:VEVENT
END:VCALENDAR