BEGIN:VCALENDAR
VERSION:2.0
PRODID:-//jEvents 2.0 for Joomla//EN
CALSCALE:GREGORIAN
METHOD:PUBLISH
BEGIN:VEVENT
UID:1c681ee2a92cd38e1c18f9096b6dde34
CATEGORIES:4. Bezirk
CREATED:20221122T161750
SUMMARY:SchwangerenYOGA
LOCATION:Wien
DESCRIPTION:<p>Unsere Schwangerenyogastunden sind ganz auf die Bedürfnisse und das Wohl
 befinden der werdenden Mutter ausgerichtet und der Fokus der Stunde ist Ent
 spannung und die Verbindung mit dem Baby! Mantren, Mudras und Musik sind au
 ch ein Bestandteil jeder Schwangerenyogastunde.</p><p>Yoga in der Schwanger
 schaft bereitet die Frau auf die bevorstehende Geburt vor. Es dehnt und stä
 rkt den Körper und entspannt Geist und Emotionen.</p><p>Es verbindet die we
 rdende Mutter mit ihrer sanften, weiblichen Seite, entwickelt tiefste Intui
 tion, Selbstbewusstheit im persönlichen Leben und den ureigenen Mutterinsti
 nkt.</p><p>Es unterstützt die Frau, eine gesunde Beziehung zum eigenen Körp
 er zu behalten, zu dem darin heranwachsenden Leben aufzubauen und sich dabe
 i auf körperlicher und mentaler Ebene auf die Geburt vorzubereiten!</p>
CONTACT:yoga@studioyoginis.at
DTSTAMP:20260423T082850
DTSTART:20221128T100000
DTEND:20221128T110000
SEQUENCE:0
TRANSP:OPAQUE
END:VEVENT
END:VCALENDAR