BEGIN:VCALENDAR
VERSION:2.0
PRODID:-//jEvents 2.0 for Joomla//EN
CALSCALE:GREGORIAN
METHOD:PUBLISH
BEGIN:VEVENT
UID:53adf551aa5e421d7de974e42cd295be
CATEGORIES:12. Bezirk
CREATED:20221123T075128
SUMMARY:Doula Informationsabend 
LOCATION:Im Careccino - Sagedergasse 18-22\, 1120 Wien 
DESCRIPTION:<p><strong>Wisst ihr was eine Doula ist?</strong></p><p>Wir haben für euch 
 zwei Doula's eingeladen. Es findet ein unverbindliches Kennenlernen statt :
 ). </p><p>Sie erzählen euch alles rund um die Begleitung während der Schwan
 gerschaft, Geburt und Wochenbett. Durch den Vortrag lernt ihr den Unterschi
 ed zwischen einer Hebamme und Doula kennen. </p><p>Anmeldung per Anruf oder
  Nachricht auf Instagram oder Facebook. </p><p>Wir freuen uns auf euer komm
 en. </p><p>Team Careccino </p>
CONTACT:06703593925
DTSTAMP:20260423T124318
DTSTART:20221124T170000
SEQUENCE:0
TRANSP:OPAQUE
END:VEVENT
END:VCALENDAR