BEGIN:VCALENDAR
VERSION:2.0
PRODID:-//jEvents 2.0 for Joomla//EN
CALSCALE:GREGORIAN
METHOD:PUBLISH
BEGIN:VEVENT
UID:a60620a4bd2581a2cb88c701163aeb4f
CATEGORIES:7. Bezirk
CREATED:20221123T221820
SUMMARY:FAMILIENGOTTESDIENST
LOCATION:Auferstehungskirche\, Lindengasse 44
DESCRIPTION:<p>Familiengottesdienst zum Thema "Türen" mit Liedern und Gedanken - danach
  gibts ein gemeinsames Brunch!</p>
CONTACT:https://www.evang-neubau.at/
DTSTAMP:20260423T171941
DTSTART:20221127T090000
DTEND:20221127T100000
SEQUENCE:0
TRANSP:OPAQUE
END:VEVENT
END:VCALENDAR