BEGIN:VCALENDAR
VERSION:2.0
PRODID:-//jEvents 2.0 for Joomla//EN
CALSCALE:GREGORIAN
METHOD:PUBLISH
BEGIN:VEVENT
UID:9221ea975047dcfa368fdb3667ee3b35
CATEGORIES:7. Bezirk
CREATED:20221123T222028
SUMMARY:Familienweihnachtsgottesdienst
LOCATION:Auferstehungskirche\, Lindengasse 44
DESCRIPTION:Gemeinsam am Weihnachtsnachmittag in der Kirche feiern, Weihnachtslieder si
 ngen, Texte hören, den Weihnachtsbaum bestaunen...und Weihnachtsatmosphäre 
 spüren!\n
X-ALT-DESC;FMTTYPE=text/html:<p>Gemeinsam am Weihnachtsnachmittag in der Kirche feiern, Weihnachtslieder
  singen, Texte hören, den Weihnachtsbaum bestaunen...und Weihnachtsatmosphä
 re spüren!</p>
CONTACT:https://www.evang-neubau.at/
DTSTAMP:20260423T144141
DTSTART:20221224T143000
DTEND:20221224T153000
SEQUENCE:0
TRANSP:OPAQUE
END:VEVENT
END:VCALENDAR