BEGIN:VCALENDAR
VERSION:2.0
PRODID:-//jEvents 2.0 for Joomla//EN
CALSCALE:GREGORIAN
METHOD:PUBLISH
BEGIN:VEVENT
UID:9412fbaf4283698e4d5ddf86f863181a
CATEGORIES:12. Bezirk
CREATED:19700101T010000
SUMMARY:DIY - Geschenke aus der Aromaschatzkiste
LOCATION:Careccino - Sagedergasse 18-22\, 1120 Wien
DESCRIPTION:<p><strong>DIY Workshop - Geschenke aus der Aromaschatzkiste </strong></p><
 p>In diesem Workshop stimmst du dich in einem<br />gemütlichem &amp; fröhli
 chem Rahmen auf die<br />Weihnachtszeit ein &amp; fertigst dabei selber Ges
 chenke<br />für deine Familie &amp; Freunde oder für dich selbst!<br />Geme
 insam erstellen wir:</p><p>- Zuckerpeeling<br />- Wärmendes Fußöl<br />- Af
 ter Shave Serum<br />- Anti Aging Rosen Serum<br />- Badesalz (Beruhigendes
  und Erkältungsbadesalz)</p><p><strong>Wann:</strong> 09.12.2022</p><p><str
 ong>Uhrzeit</strong>: 18:00 Uhr </p><p><strong>Wo:</strong> Im Careccino </
 p><p><strong>Adresse:</strong> Sagedergasse 18-22, 1120 Wien</p><p><strong>
 Email:</strong> office@careccino.com</p><p><strong>Telefon:</strong> 067035
 93925</p><p><strong>Kosten:</strong> 60 € (inklusive Material und Geschenke
 )</p><p>Sie können sich gerne per Email od Telefon anmelden.</p><p>Mit freu
 ndlichen Grüßen </p><p>Team Careccino </p>
CONTACT:06703593925
X-EXTRAINFO:[preis='6000'][anmeldung='true']
DTSTAMP:20260423T100713
DTSTART:20221209T170000
SEQUENCE:0
TRANSP:OPAQUE
END:VEVENT
END:VCALENDAR