BEGIN:VCALENDAR
VERSION:2.0
PRODID:-//jEvents 2.0 for Joomla//EN
CALSCALE:GREGORIAN
METHOD:PUBLISH
BEGIN:VEVENT
UID:cf1eaef4a30879cc5d2572d1a127dda8
CATEGORIES:2. Bezirk
CREATED:20221125T225659
SUMMARY:MAMA-BABY-YOGA
LOCATION:Obere Donaustraße 15A\, 1020 Wien
DESCRIPTION:<p class="font_8">Ich weiß - Zeit für dich allein zu finden, ist nicht imme
 r leicht! Also nimm dein Baby einfach mit auf die Yogamatte. <span class="w
 ixGuard">?</span></p><p class="font_8">Die Einheit ist darauf ausgelegt, di
 e Rückbildung deines Körper nach der Geburt zu fördern und dich sanft  von 
 innen heraus zu stärken, unter anderem durch gezielte Beckenbodenübungen. <
 /p><p class="font_8">Falls du zögerst, weil dein Baby laut/ quengelig/ hung
 rig/ müde oder alles miteinand sein könnte, dann lass deine Bedenken hinter
  dir und komm vorbei! Du UND dein Baby seid herzlich willkommen! :-) <br />
 <br />_______</p><p class="font_8"><br />Mein Name ist Sara. Ich bin Yogale
 hrerin mit Fokus auf Prä- und Postnatalem Yoga, psychosoziale Beraterin und
  HypnoBirthing-Kursleiterin. Und selbst auch Mama von einem wundervollen So
 hn. </p><p class="font_8">Ich freu mich, dich und dein Baby kennenzulernen!
  </p>
CONTACT:https://www.saramitterholzer.com/yoga
X-EXTRAINFO:[preis='1500'][anmeldung='true']
DTSTAMP:20260423T163012
DTSTART:20221129T083000
DTEND:20221129T093000
SEQUENCE:0
TRANSP:OPAQUE
END:VEVENT
END:VCALENDAR