BEGIN:VCALENDAR
VERSION:2.0
PRODID:-//jEvents 2.0 for Joomla//EN
CALSCALE:GREGORIAN
METHOD:PUBLISH
BEGIN:VEVENT
UID:8f0ced238c07f77bf34088fde0e1eaba
CATEGORIES:2. Bezirk
CREATED:20221125T230541
SUMMARY:MAMA-YOGA (ohne Baby)
LOCATION:Obere Donaustraße 17\, 1020 Wien
DESCRIPTION:<p class="font_8">Eine Stunde Yoga. Nur für dich. Ganz ohne Baby. </p><p cl
 ass="font_8">Wir leisten als Mamas tagtäglich (und nächtlich!) so viel und 
 vergessen dabei häufig, auf uns, unsere Bedürfnisse und unsere Gesundheit z
 u achten. <br />Während dieser Yogaeinheit hast du genau dazu die Möglichke
 it. Ruhe &amp; Entspannung, Bewegung &amp; Wohlbefinden. All das erwartet d
 ich in deiner wöchentlichen Mamaauszeit. <br /><br />_______</p><p class="f
 ont_8"><br />Mein Name ist Sara. Ich bin Yogalehrerin mit Fokus auf Prä- un
 d Postnatalem Yoga, psychosoziale Beraterin und HypnoBirthing-Kursleiterin.
  Und selbst auch Mama von einem wundervollen Sohn. </p><p class="font_8">Ic
 h freu mich, dich kennenzulernen! </p><p class="font_8"><br />PS: Keine Yog
 avorkenntnisse notwendig! Komm wie du bist &lt;3 </p>
CONTACT:https://www.saramitterholzer.com/yoga
X-EXTRAINFO:[preis='1500'][anmeldung='true']
DTSTAMP:20260423T174523
DTSTART:20221205T163000
DTEND:20221205T173000
SEQUENCE:0
TRANSP:OPAQUE
END:VEVENT
END:VCALENDAR