BEGIN:VCALENDAR
VERSION:2.0
PRODID:-//jEvents 2.0 for Joomla//EN
CALSCALE:GREGORIAN
METHOD:PUBLISH
BEGIN:VEVENT
UID:994b00d692eef57e6d4e5e65c958e5ad
CATEGORIES:1. Bezirk
CREATED:20221125T231347
SUMMARY:BABY-MAMA-KREIS
LOCATION:Kinderordination "Malacht"\, 1010 Wien
DESCRIPTION:Eine gemütliche Runde zum Wohlfühlen, Austauschen und füreinander da Sein. 
 Hier findest du deinen geschützten Raum, wo du alles, was dich als Mama bes
 chäftigt, teilen kannst. \nDer Baby-Mama-Kreis wird abwechselnd von meiner 
 Kollegin Claudia Grafl und mir geleitet.\nWir freuen uns sehr darauf, dich 
 und dein Baby kennenzulernen! \n_______\n\nMein Name ist Sara. Ich bin Yoga
 lehrerin mit Fokus auf Prä- und Postnatalem Yoga, psychosoziale Beraterin u
 nd HypnoBirthing-Kursleiterin. Und selbst auch Mama von einem wundervollen 
 Sohn. \n \n \n
X-ALT-DESC;FMTTYPE=text/html:<p class="font_8">Eine gemütliche Runde zum Wohlfühlen, Austauschen und für
 einander da Sein. Hier findest du deinen geschützten Raum, wo du alles, was
  dich als Mama beschäftigt, teilen kannst. </p><p class="font_8">Der Baby-M
 ama-Kreis wird abwechselnd von meiner Kollegin Claudia Grafl und mir geleit
 et.</p><p class="font_8">Wir freuen uns sehr darauf, dich und dein Baby ken
 nenzulernen! </p><p class="font_8">_______</p><p class="font_8"><br />Mein 
 Name ist Sara. Ich bin Yogalehrerin mit Fokus auf Prä- und Postnatalem Yoga
 , psychosoziale Beraterin und HypnoBirthing-Kursleiterin. Und selbst auch M
 ama von einem wundervollen Sohn. </p><p class="font_8"> </p><p class="font_
 8"> </p>
CONTACT:https://www.saramitterholzer.com/mamakreis
X-EXTRAINFO:[preis='1000'][anmeldung='true']
DTSTAMP:20260423T141651
DTSTART:20221201T090000
DTEND:20221201T103000
SEQUENCE:0
TRANSP:OPAQUE
END:VEVENT
END:VCALENDAR