BEGIN:VCALENDAR
VERSION:2.0
PRODID:-//jEvents 2.0 for Joomla//EN
CALSCALE:GREGORIAN
METHOD:PUBLISH
BEGIN:VEVENT
UID:bedcdda0891e35adf800c6300d0ea2c5
CATEGORIES:2. Bezirk
CREATED:20221125T235940
SUMMARY:SCHWANGERSCHAFTSYOGA
LOCATION:Obere Donaustraße 15A\, 1020 Wien
DESCRIPTION:Schwangerschaftsyoga als ideale unterstützende Geburtsvorbereitung. \nDu bi
 st aktuell schwanger und sehnst dich nach ganzheitlichem Wohlbefinden, sanf
 ter Bewegung und Austausch mit anderen werdenden Mamis? Dann bist du hier g
 enau richtig!\nBeim Schwangerschaftsyoga bewegen wir unseren Körper und ber
 eiten uns durch gezielte Beckenboden- und Atemübungen optimal auf die Gebur
 t vor. Entspannung auf allen Ebenen kommt dabei nie zu kurz. \n\n_________\
 n\nMein Name ist Sara. Ich bin Yogalehrerin mit Fokus auf Prä- und Postnata
 lem Yoga, psychosoziale Beraterin und HypnoBirthing-Kursleiterin. Und selbs
 t auch Mama von einem wundervollen Sohn. \nIch freu mich, dich kennenzulern
 en! \n\nPS: Keine Yogavorkenntnisse notwendig! Komm wie du bist &lt;3\n \n
X-ALT-DESC;FMTTYPE=text/html:<p class="font_8">Schwangerschaftsyoga als ideale unterstützende Geburtsvor
 bereitung. </p><p class="font_8">Du bist aktuell schwanger und sehnst dich 
 nach ganzheitlichem Wohlbefinden, sanfter Bewegung und Austausch mit andere
 n werdenden Mamis? Dann bist du hier genau richtig!</p><p class="font_8">Be
 im Schwangerschaftsyoga bewegen wir unseren Körper und bereiten uns durch g
 ezielte Beckenboden- und Atemübungen optimal auf die Geburt vor. Entspannun
 g auf allen Ebenen kommt dabei nie zu kurz. <br /><br />_________</p><p cla
 ss="font_8"><br />Mein Name ist Sara. Ich bin Yogalehrerin mit Fokus auf Pr
 ä- und Postnatalem Yoga, psychosoziale Beraterin und HypnoBirthing-Kursleit
 erin. Und selbst auch Mama von einem wundervollen Sohn. </p><p class="font8
 ">Ich freu mich, dich kennenzulernen! </p><p class="font7"><br />PS: Keine 
 Yogavorkenntnisse notwendig! Komm wie du bist &lt;3</p><p class="font_8"> <
 /p>
CONTACT:https://www.saramitterholzer.com/yoga
X-EXTRAINFO:[preis='1500'][anmeldung='true']
DTSTAMP:20260423T162610
DTSTART:20221129T103000
DTEND:20221129T113000
SEQUENCE:0
TRANSP:OPAQUE
END:VEVENT
END:VCALENDAR