BEGIN:VCALENDAR
VERSION:2.0
PRODID:-//jEvents 2.0 for Joomla//EN
CALSCALE:GREGORIAN
METHOD:PUBLISH
BEGIN:VEVENT
UID:f9f6fee8172261b8511e5752a5253606
CATEGORIES:2. Bezirk
CREATED:19700101T010000
SUMMARY:Babyschreiberatungscafè
LOCATION:Kind &amp; Kegel\, Praterstraße 14/8\, 1020 Wien
DESCRIPTION:<p>Für Eltern von Babys, die viel weinen und schwer zufrieden zu stellen si
 nd. Hier ist Platz um sich auszutauschen und alle Fragen zum Babyschreien z
 u stellen. Auch einfache Körper- und Wahrnehmungsübungen werden erprobt, di
 e im Alltag dabei helfen, die Schrei- und Unruhephasen der Babys sicher und
  einfühlsam zu begleiten.</p>
CONTACT:hallo@susanneschmid.at 
X-EXTRAINFO:[preis='1500'][anmeldung='true']
DTSTAMP:20260423T124030
DTSTART:20221206T093000
DTEND:20221206T110000
SEQUENCE:0
TRANSP:OPAQUE
END:VEVENT
END:VCALENDAR