BEGIN:VCALENDAR
VERSION:2.0
PRODID:-//jEvents 2.0 for Joomla//EN
CALSCALE:GREGORIAN
METHOD:PUBLISH
BEGIN:VEVENT
UID:2d72c0f5b6208c847476de96ac266fba
CATEGORIES:2. Bezirk
CREATED:20221208T162335
SUMMARY:Austauschgruppe für Mamas nach Kaiserschnittgeburten
LOCATION:Kind &amp; Kegel\, Praterstraße 14/8\, 1020 Wien
DESCRIPTION:Für Eltern und Babys, die mit den Folgen eines Kaiserschnitts zu kämpfen ha
 ben. Hier ist Platz, um Fragen zu stellen, sich auszutauschen und viele hil
 freiche Tipps und Anregungen zu bekommen.\n \n
X-ALT-DESC;FMTTYPE=text/html:<p>Für Eltern und Babys, die mit den Folgen eines Kaiserschnitts zu kämpfen
  haben. Hier ist Platz, um Fragen zu stellen, sich auszutauschen und viele 
 hilfreiche Tipps und Anregungen zu bekommen.</p><p> </p>
CONTACT:info@kind-und-kegel.at
X-EXTRAINFO:[preis='1500'][anmeldung='true']
DTSTAMP:20260423T142702
DTSTART:20221213T093000
DTEND:20221213T110000
SEQUENCE:0
TRANSP:OPAQUE
END:VEVENT
END:VCALENDAR