BEGIN:VCALENDAR
VERSION:2.0
PRODID:-//jEvents 2.0 for Joomla//EN
CALSCALE:GREGORIAN
METHOD:PUBLISH
BEGIN:VEVENT
UID:15ec1ccf9cdaed668bc829b027820da2
CATEGORIES:18. Bezirk
CREATED:20221212T104942
SUMMARY:Farbenspielerei
LOCATION:Spielringel\, Mollgasse 11-13
DESCRIPTION:Bei unserer Farbenspielerei dürfen sich die Kleinen jedesmal auf eine ander
 e Art und Weise mit Farben austoben!\nEinmal malen wir mit Fingerfarben, ei
 n andermal stempeln oder kneten wir. -  Auf jeden Fall wird es jedesmal seh
 r bunt!\nBitte Gewand, das auch schmutzig werden darf, anziehen und Wechsel
 gewand mitnehmen!\nKurstag:  Donnerstag 11:15-12:15\nTermine:  15.12., 22.1
 2., 12.01., 19.01., 26.01.\nKosten:  €80,- (5-Wochen Kurs)\n
X-ALT-DESC;FMTTYPE=text/html:<p>Bei unserer Farbenspielerei dürfen sich die Kleinen jedesmal auf eine an
 dere Art und Weise mit Farben austoben!</p><p>Einmal malen wir mit Fingerfa
 rben, ein andermal stempeln oder kneten wir. -  Auf jeden Fall wird es jede
 smal sehr bunt!</p><p>Bitte Gewand, das auch schmutzig werden darf, anziehe
 n und Wechselgewand mitnehmen!</p><p><span class="text-primary font-weight-
 bold">Kurstag: </span> Donnerstag 11:15-12:15</p><p><span class="text-prima
 ry font-weight-bold">Termine: </span> 15.12., 22.12., 12.01., 19.01., 26.01
 .</p><p><span class="text-primary font-weight-bold">Kosten: </span> €80,- (
 5-Wochen Kurs)</p>
CONTACT:www.spielringel.at
X-EXTRAINFO:[preis='8000'][anmeldung='true']
DTSTAMP:20260423T134718
DTSTART:20221215T101500
DTEND:20221215T111500
SEQUENCE:0
TRANSP:OPAQUE
END:VEVENT
END:VCALENDAR