BEGIN:VCALENDAR
VERSION:2.0
PRODID:-//jEvents 2.0 for Joomla//EN
CALSCALE:GREGORIAN
METHOD:PUBLISH
BEGIN:VEVENT
UID:1b5eb97821b2d6f013639e93f71fe7ed
CATEGORIES:18. Bezirk
CREATED:20221212T134933
SUMMARY:Kinderyoga Schnupperstunde im Advent
LOCATION:Spielringel\, Mollgasse 11-13
DESCRIPTION:Kinderyoga Schnupperstunde im Adventfür Kinder von 3,5 - 6 Jahren (mit oder
  ohne Begleitung)Beim Kinderyoga geht es vor allem um Spaß, Entspannung und
  Fantasie. Die Kinder können zur Ruhe kommen und ganz sie selbst sein. Die 
 Asanas werden spielerisch, oft anhand von Tieren, ausgeübt und in Geschicht
 en oder Kinderlieder eingebunden.\nAsanas (Yogapositionen) dehnen und kräft
 igen den Körper, Atemübungen und kurze Meditationen lassen alle Anspannung 
 entweichen und zentrieren den Geist. Yogarituale und klare Regeln bringen d
 en Kindern Sicherheit und einen Rahmen, in dem sie sich bewegen können.\nOh
 ne Zeitdruck, Konkurrenzdenken und Leistungsdruck finden die Kinder so eine
 n besseren Zugang zu Ihrem Körper, ihren Gefühlen und Gedanken.\nDer Advent
  ist eine Zeit, die uns zu Bewegung und Entspannung einlädt. Und so erwarte
 n uns in dieser Einheit bunte Spiele, weihnachtliche Yoga-Asanas und Weihna
 chtslieder in dieser wundervolle und ereignisreiche Zeit.\nIch freue mich a
 uf dein Kind!\n \n  
X-ALT-DESC;FMTTYPE=text/html:<h2 class="element-header ">Kinderyoga Schnupperstunde im Advent</h2><h4>fü
 r Kinder von 3,5 - 6 Jahren (mit oder ohne Begleitung)</h4><div class="fram
 e frame-default frame-type-textpic frame-layout-0 frame-background-none fra
 me-no-backgroundimage frame-space-before-none frame-space-after-none"><div 
 class="frame-container"><div class="frame-inner"><div class="textpic textpi
 c-right"><div class="textpic-item textpic-text"><p>Beim Kinderyoga geht es 
 vor allem um Spaß, Entspannung und Fantasie. Die Kinder können zur Ruhe kom
 men und ganz sie selbst sein. Die Asanas werden spielerisch, oft anhand von
  Tieren, ausgeübt und in Geschichten oder Kinderlieder eingebunden.</p><p>A
 sanas (Yogapositionen) dehnen und kräftigen den Körper, Atemübungen und kur
 ze Meditationen lassen alle Anspannung entweichen und zentrieren den Geist.
  Yogarituale und klare Regeln bringen den Kindern Sicherheit und einen Rahm
 en, in dem sie sich bewegen können.</p><p>Ohne Zeitdruck, Konkurrenzdenken 
 und Leistungsdruck finden die Kinder so einen besseren Zugang zu Ihrem Körp
 er, ihren Gefühlen und Gedanken.</p><p>Der Advent ist eine Zeit, die uns zu
  Bewegung und Entspannung einlädt. Und so erwarten uns in dieser Einheit bu
 nte Spiele, weihnachtliche Yoga-Asanas und Weihnachtslieder in dieser wunde
 rvolle und ereignisreiche Zeit.</p><p>Ich freue mich auf dein Kind!</p><p> 
 </p></div></div></div></div></div><div id="c776" class="frame frame-default
  frame-type-form_formframework frame-layout-0 frame-background-none frame-n
 o-backgroundimage frame-space-before-none frame-space-after-none"><div clas
 s="frame-container"><div class="frame-inner"><div class="form-container for
 m-identifier-anmeldeformular-776"><form id="anmeldeformular-776" enctype="m
 ultipart/form-data" method="post" novalidate="novalidate"><div> </div><inpu
 t id="anmeldeformular-776-kuFpX0f" style="position: absolute; margin: 0 0 0
  -999em;" tabindex="-1" autocomplete="kuFpX0f" name="tx_form_formframework[
 anmeldeformular-776][kuFpX0f]" type="text" /><div class="form-actions"> </d
 iv></form></div></div></div></div>
CONTACT:www.spielringel.at
X-EXTRAINFO:[preis='1600'][anmeldung='true']
DTSTAMP:20260423T144142
DTSTART:20221216T150000
DTEND:20221216T160000
SEQUENCE:0
TRANSP:OPAQUE
END:VEVENT
END:VCALENDAR