BEGIN:VCALENDAR
VERSION:2.0
PRODID:-//jEvents 2.0 for Joomla//EN
CALSCALE:GREGORIAN
METHOD:PUBLISH
BEGIN:VEVENT
UID:30ed8ac5187133d5c2797f08892f25d3
CATEGORIES:2. Bezirk
CREATED:20221221T142805
SUMMARY:Gemeinsames Schlafen und entspannter Geschwisterschlaf - Workshop
LOCATION:Kind&amp;Kegel Eltern-Kind-Zentrum 1020\, Praterstraße 14/8
DESCRIPTION:Elternbildung (Anmeldung erforderlich!)\n \n \n \nGemeinsames Schlafen und 
 entspannter Geschwisterschlaf \nFr, 23.06.23 von 10.00-11.30    \nIn diesem
  Workshop schauen wir uns gemeinsam die vielen Vor- und eventuellen Nachtei
 le des gemeinsamen Schlafens und des Familienbetts an. Kosten: € 23,--\n \n
  \n \n \n \nweitere Elternbildungsveranstaltungen im Kind&amp;Kegel \nGebur
 t mit Doula? \nIn diesem Workshop geht's um die Frage, ob und warum eine Do
 ulabegleitung (d)ein Geburtserlebnis einfacher oder schöner machen könnte.\
 nFr, 12.05.23 von 10.00-11.30\nKosten: € 23,--\n \nEntwicklung, Mythen &amp
 ; Träume: Wie Babys schlafen \nFr, 31.03.23 von 10.00-11.30\nKosten: € 23,-
 -\n \nGehirnentwicklung in den ersten 3 Lebensjahren\nFr, 17.02.23 von 10.0
 0-11.30\nKosten: € 23,--\n \nGrenzen setzen - aber wie?\nZweiteiliger Works
 hop zum Thema Grenzen setzen.\nMi, 15.02. und 01.03.23 von 18.30-20.30\nKos
 ten: für beide Termine € 55,--\nBeikost muss nicht Breikost seinMi, 11.01.2
 3  und Di, 09.05.23 von 17.00-19.00Kosten: € 23,-- \nAuf in die nächste Run
 de!\nHier tauschen wir uns über Fragen, Themen und Herausforderungen aus, d
 ie uns erwarten, wenn ihr ein weiteres Kind plant oder erwartet.\nDo, 02.02
 .23 von 17.00-19.00 Kosten: € 23,--\n \n \n \n \n \n \n \nTrotzkind? Wutzwe
 rg? - Weltentdecker! \n Selbermacherin!\nKinder in der Autonomiephase besse
 r verstehen und\nbegleiten\nDi,18.04.23 und Di, 27.06.23 von 17.00-19.00\nK
 osten: € 23,--\n \n
X-ALT-DESC;FMTTYPE=text/html:<p><b>Elternbildung </b>(Anmeldung erforderlich!)</p><p><b> </b></p><p> </p
 ><p> </p><p><b>Gemeinsames Schlafen und entspannter Geschwisterschlaf </b><
 /p><p>Fr, 23.06.23 von 10.00-11.30    </p><p>In diesem Workshop schauen wir
  uns gemeinsam die vielen Vor- und eventuellen Nachteile des gemeinsamen Sc
 hlafens und des Familienbetts an. <b>Kosten</b>: € 23,--</p><p> </p><p> </p
 ><p> </p><p> </p><p> </p><h3>weitere Elternbildungsveranstaltungen im Kind&
 amp;Kegel</h3><p> </p><p><b>Geburt mit Doula? </b></p><p>In diesem Workshop
  geht's um die Frage, ob und warum eine Doulabegleitung (d)ein Geburtserleb
 nis einfacher oder schöner machen könnte.</p><p>Fr, 12.05.23 von 10.00-11.3
 0</p><p><b>Kosten</b>: € 23,--</p><p> </p><p><b>Entwicklung, Mythen &amp; T
 räume: Wie Babys schlafen </b></p><p>Fr, 31.03.23 von 10.00-11.30</p><p><b>
 Kosten</b>: € 23,--</p><p> </p><p><b>Gehirnentwicklung in den ersten 3 Lebe
 nsjahren</b></p><p>Fr, 17.02.23 von 10.00-11.30</p><p><b>Kosten</b>: € 23,-
 -</p><p> </p><p><b>Grenzen setzen - aber wie?</b></p><p>Zweiteiliger Worksh
 op zum Thema Grenzen setzen.</p><p>Mi, 15.02. und 01.03.23 von 18.30-20.30<
 /p><p><b>Kosten</b>: für beide Termine € 55,--</p><h5><b>Beikost muss nicht
  Breikost sein</b></h5><h5>Mi, 11.01.23<strong> </strong> und <strong>Di, 0
 9.05.23</strong> von 17.00-19.00</h5><h5><b>Kosten</b>: € 23,--</h5><p> </p
 ><p><b>Auf in die nächste Runde!</b></p><p>Hier tauschen wir uns über Frage
 n, Themen und Herausforderungen aus, die uns erwarten, wenn ihr ein weitere
 s Kind plant oder erwartet.</p><p><strong>Do, 02.02.23</strong> von 17.00-1
 9.00 <b>Kosten</b>: € 23,--</p><p> </p><p> </p><p> </p><p> </p><p> </p><p><
 b> </b></p><p> </p><p><b>Trotzkind? Wutzwerg? - Weltentdecker! </b></p><p><
 b> Selbermacherin</b>!</p><p>Kinder in der Autonomiephase besser verstehen 
 und</p><p>begleiten</p><p>Di,18.04.23 und Di, 27.06.23 von 17.00-19.00</p><
 p><b>Kosten</b>: € 23,--</p><p> </p>
CONTACT:01 503 71 88, info@kind-und-kegel.at, www.kind-und-kegel.at
X-EXTRAINFO:[preis='2300'][anmeldung='true']
DTSTAMP:20260423T144141
DTSTART:20230623T080000
DTEND:20230623T093000
SEQUENCE:0
TRANSP:OPAQUE
END:VEVENT
END:VCALENDAR