BEGIN:VCALENDAR
VERSION:2.0
PRODID:-//jEvents 2.0 for Joomla//EN
CALSCALE:GREGORIAN
METHOD:PUBLISH
BEGIN:VEVENT
UID:4234e6f0ab49eb964085944446bf38d5
CATEGORIES:2. Bezirk
CREATED:20221221T143052
SUMMARY:Trotzkind-Wutzwerg: Autonomiephase verstehen und begleiten - Workshop
LOCATION:Kind&amp;Kegel Eltern-Kind-Zentrum 1020\, Praterstraße 14/8
DESCRIPTION:Elternbildung (Anmeldung erforderlich!)\n \n \nTrotzkind? Wutzwerg? - Welte
 ntdecker! \n Selbermacherin!\nKinder in der Autonomiephase besser verstehen
  und\nbegleiten\nDi, 27.06.23 von 17.00-19.00\nKosten: € 23,--\n \n \n \n \
 n \n \n \nweitere Elternbildungsveranstaltungen im Kind&amp;Kegel \nGemeins
 ames Schlafen und entspannter Geschwisterschlaf \nFr, 23.06.23 von 10.00-11
 .30    \nIn diesem Workshop schauen wir uns gemeinsam die vielen Vor- und e
 ventuellen Nachteile des gemeinsamen Schlafens und des Familienbetts an. Ko
 sten: € 23,--\nGeburt mit Doula? \nIn diesem Workshop geht's um die Frage, 
 ob und warum eine Doulabegleitung (d)ein Geburtserlebnis einfacher oder sch
 öner machen könnte.\nFr, 12.05.23 von 10.00-11.30\nKosten: € 23,--\n \nEntw
 icklung, Mythen &amp; Träume: Wie Babys schlafen \nFr, 31.03.23 von 10.00-1
 1.30\nKosten: € 23,--\n \nGehirnentwicklung in den ersten 3 Lebensjahren\nF
 r, 17.02.23 von 10.00-11.30\nKosten: € 23,--\n \nGrenzen setzen - aber wie?
 \nZweiteiliger Workshop zum Thema Grenzen setzen.\nMi, 15.02. und 01.03.23 
 von 18.30-20.30\nKosten: für beide Termine € 55,--\nBeikost muss nicht Brei
 kost seinMi, 11.01.23  und Di, 09.05.23 von 17.00-19.00Kosten: € 23,-- \nAu
 f in die nächste Runde!\nHier tauschen wir uns über Fragen, Themen und Hera
 usforderungen aus, die uns erwarten, wenn ihr ein weiteres Kind plant oder 
 erwartet.\nDo, 02.02.23 von 17.00-19.00 Kosten: € 23,--\n \n \n \n
X-ALT-DESC;FMTTYPE=text/html:<p><b>Elternbildung </b>(Anmeldung erforderlich!)</p><p><b> </b></p><p> </p
 ><p><b>Trotzkind? Wutzwerg? - Weltentdecker! </b></p><p><b> Selbermacherin<
 /b>!</p><p>Kinder in der Autonomiephase besser verstehen und</p><p>begleite
 n</p><p><strong>Di, 27.06.23</strong> von 17.00-19.00</p><p><b>Kosten</b>: 
 € 23,--</p><p> </p><p> </p><p> </p><p> </p><p> </p><p> </p><p> </p><h3>weit
 ere Elternbildungsveranstaltungen im Kind&amp;Kegel</h3><p> </p><p><b>Gemei
 nsames Schlafen und entspannter Geschwisterschlaf </b></p><p>Fr, 23.06.23 v
 on 10.00-11.30    </p><p>In diesem Workshop schauen wir uns gemeinsam die v
 ielen Vor- und eventuellen Nachteile des gemeinsamen Schlafens und des Fami
 lienbetts an. <b>Kosten</b>: € 23,--</p><p><b>Geburt mit Doula? </b></p><p>
 In diesem Workshop geht's um die Frage, ob und warum eine Doulabegleitung (
 d)ein Geburtserlebnis einfacher oder schöner machen könnte.</p><p>Fr, 12.05
 .23 von 10.00-11.30</p><p><b>Kosten</b>: € 23,--</p><p> </p><p><b>Entwicklu
 ng, Mythen &amp; Träume: Wie Babys schlafen </b></p><p>Fr, 31.03.23 von 10.
 00-11.30</p><p><b>Kosten</b>: € 23,--</p><p> </p><p><b>Gehirnentwicklung in
  den ersten 3 Lebensjahren</b></p><p>Fr, 17.02.23 von 10.00-11.30</p><p><b>
 Kosten</b>: € 23,--</p><p> </p><p><b>Grenzen setzen - aber wie?</b></p><p>Z
 weiteiliger Workshop zum Thema Grenzen setzen.</p><p>Mi, 15.02. und 01.03.2
 3 von 18.30-20.30</p><p><b>Kosten</b>: für beide Termine € 55,--</p><h5><b>
 Beikost muss nicht Breikost sein</b></h5><h5>Mi, 11.01.23<strong> </strong>
  und <strong>Di, 09.05.23</strong> von 17.00-19.00</h5><h5><b>Kosten</b>: €
  23,--</h5><p> </p><p><b>Auf in die nächste Runde!</b></p><p>Hier tauschen 
 wir uns über Fragen, Themen und Herausforderungen aus, die uns erwarten, we
 nn ihr ein weiteres Kind plant oder erwartet.</p><p><strong>Do, 02.02.23</s
 trong> von 17.00-19.00 <b>Kosten</b>: € 23,--</p><p> </p><p> </p><p> </p>
CONTACT:01 503 71 88, info@kind-und-kegel.at, www.kind-und-kegel.at
X-EXTRAINFO:[preis='2300'][anmeldung='true']
DTSTAMP:20260423T144152
DTSTART:20230627T150000
DTEND:20230627T170000
SEQUENCE:0
TRANSP:OPAQUE
END:VEVENT
END:VCALENDAR