BEGIN:VCALENDAR
VERSION:2.0
PRODID:-//jEvents 2.0 for Joomla//EN
CALSCALE:GREGORIAN
METHOD:PUBLISH
BEGIN:VEVENT
UID:6de1cae53f366c448f80afbae4dd56a7
CATEGORIES:8. Bezirk
CREATED:20230202T080301
SUMMARY:Sicher durch den Alltag mit Kindern ONLINE (Erste-Hilfe-Kurs)
DESCRIPTION:<p><strong>Erste Hilfe für Säuglinge und Kleinkinder nach den Richtlinien d
 es ÖRK</strong></p><p><strong>Theoretische Grundlagen und einige praktische
  Übungen zu den häufigsten Unfallarten (Stürzen, Verbrennung, Ertrinken, Bi
 enenstich, Stromunfällen etc.)</strong></p><p> </p><p><span style="text-dec
 oration: underline;">Dieser Kurs findet <strong>ONLINE</strong> statt.</spa
 n></p><p> </p><p><strong>Referenten:</strong></p><p><strong>Mag.(FH) Sandra
  Krempl-Spörk</strong>, Lehrtrainerin des Österreichischen Roten Kreuzes fü
 r Säuglings- und Kindernotfälle</p><p><strong>Dr. Stefan Mikula</strong>, K
 inderarzt St. Anna Kinderspital</p><p> </p><p>Termine:</p><p>23.05.2023 18-
 20 Uhr</p><p>30.05.2023 18-20 Uhr</p><p> </p><p>Preis: </p><div>€ 56.- für 
 Einzelpersonen<br />€ 98.- für Ehepaare, Paare in Lebensgemeinschaften mit 
 gemeinsamen Kindern</div><div> </div><div> </div>
CONTACT:office@elternkindzentrum.com
X-EXTRAINFO:[preis='5600'][anmeldung='true']
DTSTAMP:20260423T123735
DTSTART:20230523T160000
DTEND:20230530T180000
SEQUENCE:0
TRANSP:OPAQUE
END:VEVENT
END:VCALENDAR