BEGIN:VCALENDAR
VERSION:2.0
PRODID:-//jEvents 2.0 for Joomla//EN
CALSCALE:GREGORIAN
METHOD:PUBLISH
BEGIN:VEVENT
UID:c9b4ad690c5fb74cdf9c7b188cb7b963
CATEGORIES:7. Bezirk
CREATED:20230221T222303
SUMMARY:Babybauch- oder Eltern-Baby-Shooting im NANAYA
LOCATION:1070 Wien\, Zollergasse 37
DESCRIPTION:<h1>Babybauch- oder Eltern-Baby-Shooting</h1><h4>*Ich freue mich sehr, berü
 hrende Momente für dich festhalten zu dürfen!*<br /><br />Dauer: ca. 30 Min
 . pro Familie<br />Preis: € 30,- für jedes gewählte Foto mit Feinretusche<b
 r />nach Terminvereinbarung im NANAYA unter 01/5231711<br /><br />Ich bin s
 elbst Mama einer fast 3-jährigen quirligen Tochter, ausgebildete Kindergart
 enpädagogin und Horterzieherin. Nach meiner Karenzzeit habe ich mich auf Fo
 tografie mit Familien spezialisiert. Ich sehe meine Aufgabe darin, dir jegl
 iche Anspannung vor dem Shooting zu nehmen und eine entspannte, familienfre
 undliche Atmosphäre während des Shootings zu schaffen. Für deine wertvollst
 en Erinnerungen.<br /><br />Nach dem Shooting bekommst du den Link zu einer
  Online-Galerie, in der du dir deine Fotos auswählen kannst. Sobald ich die
  Auswahl erhalten habe und der entsprechende Betrag überwiesen wurde, mache
  ich mich sofort an die Arbeit und schicke dir ca. eine Woche später deine 
 feinretuschierten Fotos digital per Online-Link.<br /><br />Nähere Infos er
 hältst du unter: https://nanaya.at/fotoshootings-fuer-nanaya-besucherinnen 
 oder du rufst mich an +43 650 26 49 654<br /><br />Ich freue mich auf dich 
 und deine wunderbare Familie<br /><br />Alles Liebe - Marleen</h4>
CONTACT:NANAYA: 01/5231711
X-EXTRAINFO:[preis='3000'][anmeldung='true']
DTSTAMP:20260423T155723
DTSTART:20230630T071500
DTEND:20230630T100000
SEQUENCE:0
TRANSP:OPAQUE
END:VEVENT
END:VCALENDAR