BEGIN:VCALENDAR
VERSION:2.0
PRODID:-//jEvents 2.0 for Joomla//EN
CALSCALE:GREGORIAN
METHOD:PUBLISH
BEGIN:VEVENT
UID:aeae4dce98626b9b7296c6eaa6250661
CATEGORIES:12. Bezirk
CREATED:20230427T131614
SUMMARY:Aromaworkshop "Muttertag"
LOCATION:Careccino\, Sagedergasse 18-22\, 1120 Wien
DESCRIPTION:<p><strong><span style="color: #000000; font-family: 'Roboto Condensed', sa
 ns-serif; font-size: 15px;">Aromaworkshop zum Thema "Muttertag" mit Carina 
 Supper</span></strong><br style="color: #000000; font-family: 'Roboto Conde
 nsed', sans-serif; font-size: 15px;" /><br style="color: #000000; font-fami
 ly: 'Roboto Condensed', sans-serif; font-size: 15px;" /><span style="color:
  #000000; font-family: 'Roboto Condensed', sans-serif; font-size: 15px;">Na
 ch einer kurzern Einführung in die Welt der ätherischen Öe gehen speziell a
 uf die Öle ein, die uns als Mamas &amp; Frauen unterstützen können. Unser A
 lltag ist oft stressig, wir müssen viel auf einmal machen, aufmerksam sein 
 &amp; die Erwartungen von uns selbst, unseren Kindern &amp; manchmal auch u
 nserer Umgebung erfüllen. Wir haben es uns verdient, auch mal nur Sein zu d
 ürfen.</span><br style="color: #000000; font-family: 'Roboto Condensed', sa
 ns-serif; font-size: 15px;" /><br style="color: #000000; font-family: 'Robo
 to Condensed', sans-serif; font-size: 15px;" /><span style="color: #000000;
  font-family: 'Roboto Condensed', sans-serif; font-size: 15px;">Genau deswe
 gen ist dieser Workshop auch abends angesetzt, bewusst sich als Mama für si
 ch selbst Zeit zu nehmen, ist nicht immer einfach. Passend zum Thema erstel
 len wir innerhalb des Workshops auch <span style="text-decoration: underlin
 e;">einfach DIY Produkte</span>, du darfst für dich ein pflegendes Hautseru
 m, einen erdenden &amp; beruhigenden Roll On und ein individuelles Parfüm m
 ischen. Die Rezepte dafür bekommst du natürlich mit dazu!</span><br style="
 color: #000000; font-family: 'Roboto Condensed', sans-serif; font-size: 15p
 x;" /><br style="color: #000000; font-family: 'Roboto Condensed', sans-seri
 f; font-size: 15px;" /><em><span style="color: #000000; font-family: 'Robot
 o Condensed', sans-serif; font-size: 15px;">Schenk dir was zum Muttertag, d
 u hast es dir verdient!</span></em><br style="color: #000000; font-family: 
 'Roboto Condensed', sans-serif; font-size: 15px;" /><span style="color: #00
 0000; font-family: 'Roboto Condensed', sans-serif; font-size: 15px;">Ich fr
 eu mich auf dich,&nbsp;</span><br style="color: #000000; font-family: 'Robo
 to Condensed', sans-serif; font-size: 15px;" /><span style="color: #000000;
  font-family: 'Roboto Condensed', sans-serif; font-size: 15px;">alles Liebe
 </span><br style="color: #000000; font-family: 'Roboto Condensed', sans-ser
 if; font-size: 15px;" /><span style="color: #000000; font-family: 'Roboto C
 ondensed', sans-serif; font-size: 15px;">Carina</span></p>
CONTACT:Careccino 0670 3593925
X-EXTRAINFO:[preis='3000'][anmeldung='true']
DTSTAMP:20260423T124607
DTSTART:20230510T163000
DTEND:20230510T180000
SEQUENCE:0
TRANSP:OPAQUE
END:VEVENT
END:VCALENDAR