BEGIN:VCALENDAR
VERSION:2.0
PRODID:-//jEvents 2.0 for Joomla//EN
CALSCALE:GREGORIAN
METHOD:PUBLISH
BEGIN:VEVENT
UID:7b95d54be59474edac01927298f00bb2
CATEGORIES:3. Bezirk
CREATED:20230427T134615
SUMMARY:Mädlsabend - Mum2be Edition
LOCATION:Kinderspiel Familiencafé\, Krieglergasse 6\, 1030 Wien
DESCRIPTION:<p style="background: transparent; border: 0px; margin: 0px; outline: 0px; 
 padding: 0px; vertical-align: baseline; min-height: 1.5em; color: #000000; 
 font-family: avenir-lt-w01_35-light1475496, avenir-lt-w05_35-light, sans-se
 rif; font-size: 17px;"><strong>Mädlsabend - Mum2be Edition</strong><br /><b
 r />Liebe Mamas, Frauen, die bald ein kleines Wunder erwarten und Freundinn
 en.</p><p style="background: transparent; border: 0px; margin: 0px; outline
 : 0px; padding: 0px; vertical-align: baseline; min-height: 1.5em; color: #0
 00000; font-family: avenir-lt-w01_35-light1475496, avenir-lt-w05_35-light, 
 sans-serif; font-size: 17px;">Das ist eurer Abend! Der Mädelsabend Mom2be &
 amp; Friends Edition.</p><p style="background: transparent; border: 0px; ma
 rgin: 0px; outline: 0px; padding: 0px; vertical-align: baseline; min-height
 : 1.5em; color: #000000; font-family: avenir-lt-w01_35-light1475496, avenir
 -lt-w05_35-light, sans-serif; font-size: 17px;">Ihr habt Fragen zur Schwang
 erschaft? Interessiert euch für Begleitung und Unterstützung durch eine Dou
 la? Fragt euch, wie ihr auf natürliche Weise, euren Körper unterstützen kön
 nt?</p><p style="background: transparent; border: 0px; margin: 0px; outline
 : 0px; padding: 0px; vertical-align: baseline; min-height: 1.5em; color: #0
 00000; font-family: avenir-lt-w01_35-light1475496, avenir-lt-w05_35-light, 
 sans-serif; font-size: 17px;">Special Guest ist Carina Supper &amp; Nicole 
 Nagel. Carina begleitet in der Schwangerschaft, während der Geburt und im W
 ochenbett als Doula und setzt ätherische Öle im Rahmen der Aromapflege gezi
 elt ein. Nicole ist ebenfalls Doula und spezialisiert auf Mother Blessings,
  Yoga &amp; Plazentakunst.</p><p style="background: transparent; border: 0p
 x; margin: 0px; outline: 0px; padding: 0px; vertical-align: baseline; min-h
 eight: 1.5em; color: #000000; font-family: avenir-lt-w01_35-light1475496, a
 venir-lt-w05_35-light, sans-serif; font-size: 17px;">&nbsp;</p><p style="ba
 ckground: transparent; border: 0px; margin: 0px; outline: 0px; padding: 0px
 ; vertical-align: baseline; min-height: 1.5em; color: #000000; font-family:
  avenir-lt-w01_35-light1475496, avenir-lt-w05_35-light, sans-serif; font-si
 ze: 17px;">Wir haben uns ein tolles Programm für euch überlegt:</p><ul styl
 e="background: transparent; border: 0px; margin: 16px 0px; outline: 0px; pa
 dding: 0px 0px 0px 40px; vertical-align: baseline; list-style-position: ini
 tial; list-style-image: initial; color: #000000; font-family: avenir-lt-w01
 _35-light1475496, avenir-lt-w05_35-light, sans-serif; font-size: 17px;"><li
  style="background: transparent; border: 0px; margin: 0px; outline: 0px; pa
 dding: 0px; vertical-align: baseline;">18:00 Uhr Einlass &amp; Begrüßung mi
 t einem sommerlichen Aperitif und belegten Brötchen/Snacks Buffet (im Eintr
 ittspreis inklusive)</li><li style="background: transparent; border: 0px; m
 argin: 0px; outline: 0px; padding: 0px; vertical-align: baseline;">19:00 Uh
 r Infovortrag von Carina zum Thema Doula/Geburtsbegleitung &amp; Frauengesu
 ndheit (Schwangerschaft, Geburt, Wochenbett etc.)</li><li style="background
 : transparent; border: 0px; margin: 0px; outline: 0px; padding: 0px; vertic
 al-align: baseline;">Ab 20:00 Uhr Aromastation mit ätherischen Ölen mit Car
 ina / Infostand zur Plazentakunst mit Nicole</li><li style="background: tra
 nsparent; border: 0px; margin: 0px; outline: 0px; padding: 0px; vertical-al
 ign: baseline;">Danach gemütlicher Austausch &amp; Plaudern</li></ul><p sty
 le="background: transparent; border: 0px; margin: 0px; outline: 0px; paddin
 g: 0px; vertical-align: baseline; min-height: 1.5em; color: #000000; font-f
 amily: avenir-lt-w01_35-light1475496, avenir-lt-w05_35-light, sans-serif; f
 ont-size: 17px;">Eintritt €15 inkl. Aperitif &amp; belegte Brötchen/Snacks-
 Buffet &amp; Pflegeprodukt deiner Wahl</p>
CONTACT:Kinderpsiel Familiencafé, 019475602
X-EXTRAINFO:[preis='1500'][anmeldung='true']
DTSTAMP:20260423T125255
DTSTART:20230602T160000
SEQUENCE:0
TRANSP:OPAQUE
END:VEVENT
END:VCALENDAR