BEGIN:VCALENDAR
VERSION:2.0
PRODID:-//jEvents 2.0 for Joomla//EN
CALSCALE:GREGORIAN
METHOD:PUBLISH
BEGIN:VEVENT
UID:9b8cfbf947fd4b7472e9753e0c0f7e13
CATEGORIES:12. Bezirk
CREATED:20230427T135514
SUMMARY:Kostenloser Doula-Infovortrag
LOCATION:Careccino\, Sagedergasse 18-22\, 1120 Wien
DESCRIPTION:Kostenloser Doula-Infovortrag\nDoula - Emotionale &amp; Seelische Begleitun
 gen - eine besondere Freundin in einer besonderen Zeit\nWas ist &amp; tut e
 ine Doula? Welche Abgrenzungen gibt es? Wie kann ich mir eine Begleitung in
  der Schwangerschaft, während der Geburt &amp; im Wochenbett vorstellen?\n\
 n"Denn es wird nicht nur ein Baby geboren, sondern auch eine Mutter!"\nCari
 na &amp; Lena sind beide Doulas &amp; beantworten euch alle Fragen! \nWir f
 reuen uns auf euch!\nAlles Liebe\n
X-ALT-DESC;FMTTYPE=text/html:<p><strong>Kostenloser Doula-Infovortrag</strong></p><p>Doula - Emotionale 
 &amp; Seelische Begleitungen - eine besondere Freundin in einer besonderen 
 Zeit</p><p>Was ist &amp; tut eine Doula? Welche Abgrenzungen gibt es? Wie k
 ann ich mir eine Begleitung in der Schwangerschaft, während der Geburt &amp
 ; im Wochenbett vorstellen?<br /><br />"<em>Denn es wird nicht nur ein Baby
  geboren, sondern auch eine Mutter!"</em></p><p>Carina &amp; Lena sind beid
 e Doulas &amp; beantworten euch alle Fragen!&nbsp;<br />Wir freuen uns auf 
 euch!<br />Alles Liebe</p>
CONTACT:Careccino 0670 3593925
X-EXTRAINFO:[preis='000'][anmeldung='true']
DTSTAMP:20260423T134527
DTSTART:20230601T163000
SEQUENCE:0
TRANSP:OPAQUE
END:VEVENT
END:VCALENDAR