BEGIN:VCALENDAR
VERSION:2.0
PRODID:-//jEvents 2.0 for Joomla//EN
CALSCALE:GREGORIAN
METHOD:PUBLISH
BEGIN:VEVENT
UID:7156f17574baaae69fb3461d6fa5be39
CATEGORIES:9. Bezirk
CREATED:20230429T230052
SUMMARY:Babykino mit THE WHALE
LOCATION:Währinger Straße 12
DESCRIPTION:Jeden zweiten Dienstag laufen die wichtigsten Filme aus unserem Programm al
 s Babykino Vorstellungen in einem nicht gänzlich abgedunkeltem Saal mit etw
 as leiserem Ton. Vor der Vorstellung kann man sich in unserem Café zu Kaffe
 e und Kuchen treffen, und während des Films stehen Wickeltische und ein\nFl
 äschchenwärmer zur Verfügung.\n11:00 Uhr DIE KAIRO VERSCHWÖRUNG (https://ww
 w.votivkino.at/film/die-kairo-verschwoerung/)\n11:30 Uhr THE WHALE\nTickets
  und Informationen unter https://www.votivkino.at/specials/babvkino (https:
 //www.votivkino.at/specials/babvkino)\n
X-ALT-DESC;FMTTYPE=text/html:<p style="margin: 0px; font-stretch: normal; font-size: 12px; line-height: 
 normal; font-family: Helvetica;">Jeden zweiten Dienstag laufen die wichtigs
 ten Filme aus unserem Programm als Babykino Vorstellungen in einem nicht gä
 nzlich abgedunkeltem Saal mit etwas leiserem Ton. Vor der Vorstellung kann 
 man sich in unserem Café zu Kaffee und Kuchen treffen, und während des Film
 s stehen Wickeltische und ein</p><p style="margin: 0px; font-stretch: norma
 l; font-size: 12px; line-height: normal; font-family: Helvetica;">Fläschche
 nwärmer zur Verfügung.</p><p style="margin: 0px; font-stretch: normal; font
 -size: 12px; line-height: normal; font-family: Helvetica;">11:00 Uhr <a hre
 f="https://www.votivkino.at/film/die-kairo-verschwoerung/">DIE KAIRO VERSCH
 WÖRUNG</a></p><p style="margin: 0px; font-stretch: normal; font-size: 12px;
  line-height: normal; font-family: Helvetica;">11:30 Uhr THE WHALE</p><p st
 yle="margin: 0px; font-stretch: normal; font-size: 12px; line-height: norma
 l; font-family: Helvetica;">Tickets und Informationen unter <a href="https:
 //www.votivkino.at/specials/babvkino">https://www.votivkino.at/specials/bab
 vkino</a></p>
CONTACT:Votiv Kino
X-EXTRAINFO:[preis='750'][anmeldung='false']
DTSTAMP:20260423T082101
DTSTART:20230502T090000
DTEND:20230502T120000
SEQUENCE:0
TRANSP:OPAQUE
END:VEVENT
END:VCALENDAR