BEGIN:VCALENDAR
VERSION:2.0
PRODID:-//jEvents 2.0 for Joomla//EN
CALSCALE:GREGORIAN
METHOD:PUBLISH
BEGIN:VEVENT
UID:7faa8a5f372ffc72c3c7aacd65526f58
CATEGORIES:3. Bezirk
CREATED:20230509T160259
SUMMARY:Babyschlaf Workshop
LOCATION:1030 Wien
DESCRIPTION:Workshop "ganzheitlicher Babyschlaf""Schlafen kann ich schon"In meinem Work
 shop gibt es kein „Patentrezept“ für ruhige Nächte und ich distanziere mich
  von jeglichen Schlaftrainings, der Workshop basiert auf dem aktuellen Stan
 d der Wissenschaft, jenseits von Mythen und Ammenmärchen.\n \nSchlafen kann
  ich schon! Das Thema „Babyschlaf“ beschäftigt alle Eltern im ersten Lebens
 jahr Ihres Kindes, schließlich ist Schlaf auch sehr wichtig, für Eltern und
  Babys. Viele Tipps und Ratschläge prallen von allen Seiten auf die jungen 
 Eltern ein und schnell bekommt man das Gefühl „alles“ falsch gemacht zu hab
 en. Die Realität des Babyschlafs stimmt oft nicht mit den Vorstellungen und
  Erwartungen der Erwachsenen überein. In meinem Workshop gibt es kein „Pate
 ntrezept“ für ruhige Nächte und ich distanziere mich von jeglichen Schlaftr
 ainings, der Workshop basiert auf dem aktuellen Stand der Wissenschaft, jen
 seits von Mythen und Ammenmärchen. Was erwartet dich im Babyschlaf Workshop
 ?Babyschlaf aus biologischer Sicht? Wieviel Schlaf brauchen Babys und wie o
 ft müssen sie schlafen Familienbett, Federwiege, Beistellbett, alleine oder
  gemeinsam? Was brauchen Babys um gut (ein)schlafen zu können? Einschlafsti
 llen, Schlafen in der Trage, Körperkontakt und Nähe – eine schlechte Angewo
 hnheit? Fremdbetreuung, Krankheit und Co. Wirkt sich das auf den Babyschlaf
  aus? Wie kann ich mein Baby liebevoll und bindungsorientiert in den Schlaf
  begleiten? Babyschlaf und plötzlicher Kindstod.  Wie schaffe ich eine sich
 ere Schlafumgebung für mein Baby? Außerdem sprechen wir über bindungs- und 
 bedürfnisorientierte Lösungsansätze für entspanntere Nächte und die Folgen 
 und Wirksamkeit von Schlaftrainings. Babys und Kinder sind beim Workshop he
 rzlich Willkommen! Anmeldung unter: Workshop "ganzheitlicher Babyschlaf" - 
 for little ones (kikudoo.com) (https://kikudoo.com/for-little-ones/courses/
 EaaR5E) for little ones Landstraßer Hauptstraße 1071030 Wien0680 158 26 48w
 ww.for-little-ones.com 
X-ALT-DESC;FMTTYPE=text/html:<h1 class="components__Heading1-sc-10u5wq5-4 Content__CourseTitle-sc-119fd5
 g-0 ekVrej deXMuO" style="box-sizing: border-box; margin: 0px 0px 0.5rem; p
 adding: 0px; font-weight: 400; font-family: Quicksand; letter-spacing: 0.05
 em; line-height: 1.2; color: #212529; font-size: 3rem; word-break: break-wo
 rd; hyphens: auto;"><strong>Workshop "ganzheitlicher Babyschlaf"</strong></
 h1><h1 class="components__Heading1-sc-10u5wq5-4 Content__CourseTitle-sc-119
 fd5g-0 ekVrej deXMuO" style="box-sizing: border-box; margin: 0px 0px 0.5rem
 ; padding: 0px; font-weight: 400; font-family: Quicksand; letter-spacing: 0
 .05em; line-height: 1.2; color: #212529; font-size: 3rem; word-break: break
 -word; hyphens: auto;"><strong><small style="box-sizing: border-box; displa
 y: block; font-size: 0.5em;">"Schlafen kann ich schon"</small></strong></h1
 ><aside class="Categories__Wrapper-sc-1lmashl-0 kPUSZb" style="box-sizing: 
 border-box; margin-top: 0.4rem; margin-bottom: 0.4rem; color: #6c757d; font
 -family: Raleway, Verdana, sans-serif; font-size: 16px; letter-spacing: 0.6
 4px;"></aside><p class="components__Paragraph-sc-10u5wq5-9 htRqou" style="b
 ox-sizing: border-box; margin: 0px 0px 1rem; padding: 0px; word-break: brea
 k-word; color: #6c757d; font-family: Raleway, Verdana, sans-serif; max-widt
 h: initial; font-size: 16px; letter-spacing: 0.64px;">In meinem Workshop gi
 bt es kein „Patentrezept“ für ruhige Nächte und ich distanziere mich von je
 glichen Schlaftrainings, der Workshop basiert auf dem aktuellen Stand der W
 issenschaft, jenseits von Mythen und Ammenmärchen.</p><div class="RichText_
 _Wrapper-sc-1jyikut-0 bgJFEQ" style="box-sizing: border-box; margin-top: 1r
 em; margin-bottom: 1rem; color: #6c757d; font-family: Raleway, Verdana, san
 s-serif; font-size: 16px; letter-spacing: 0.64px;"><p style="box-sizing: bo
 rder-box; margin: 0px; padding: 0px;">&nbsp;</p><div style="box-sizing: bor
 der-box;"><strong style="box-sizing: border-box; color: #000000;">Schlafen 
 kann ich schon!&nbsp;</strong></div><div style="box-sizing: border-box;"><b
 r style="box-sizing: border-box;" /></div><div style="box-sizing: border-bo
 x;">Das Thema „Babyschlaf“ beschäftigt alle Eltern im ersten Lebensjahr Ihr
 es Kindes, schließlich ist Schlaf auch sehr wichtig, für Eltern und Babys.&
 nbsp;</div><div style="box-sizing: border-box;"><br style="box-sizing: bord
 er-box;" /></div><div style="box-sizing: border-box;">Viele Tipps und Ratsc
 hläge prallen von allen Seiten auf die jungen Eltern ein und schnell bekomm
 t man das Gefühl „alles“ falsch gemacht zu haben.&nbsp;</div><div style="bo
 x-sizing: border-box;"><br style="box-sizing: border-box;" /></div><div sty
 le="box-sizing: border-box;">Die Realität des Babyschlafs stimmt oft nicht 
 mit den Vorstellungen und Erwartungen der Erwachsenen überein.&nbsp;</div><
 div style="box-sizing: border-box;"><br style="box-sizing: border-box;" /><
 /div><div style="box-sizing: border-box;">In meinem Workshop gibt es kein „
 Patentrezept“ für ruhige Nächte und ich distanziere mich von jeglichen Schl
 aftrainings, der Workshop basiert auf dem aktuellen Stand der Wissenschaft,
  jenseits von Mythen und Ammenmärchen.&nbsp;<br style="box-sizing: border-b
 ox;" /></div><div style="box-sizing: border-box;"><br style="box-sizing: bo
 rder-box;" /><strong style="box-sizing: border-box; color: #000000;">Was er
 wartet dich im Babyschlaf Workshop?</strong><br style="box-sizing: border-b
 ox;" /><br style="box-sizing: border-box;" /></div><ul style="box-sizing: b
 order-box; margin: 0px; padding: 0px 0px 0px 2rem; list-style-position: ini
 tial; list-style-image: initial;"><li style="box-sizing: border-box;">Babys
 chlaf aus biologischer Sicht?&nbsp;</li></ul><div style="box-sizing: border
 -box;"><br style="box-sizing: border-box;" /></div><ul style="box-sizing: b
 order-box; margin: 0px; padding: 0px 0px 0px 2rem; list-style-position: ini
 tial; list-style-image: initial;"><li style="box-sizing: border-box;">Wievi
 el Schlaf brauchen Babys und wie oft müssen sie schlafen&nbsp;</li></ul><di
 v style="box-sizing: border-box;"><br style="box-sizing: border-box;" /></d
 iv><ul style="box-sizing: border-box; margin: 0px; padding: 0px 0px 0px 2re
 m; list-style-position: initial; list-style-image: initial;"><li style="box
 -sizing: border-box;">Familienbett, Federwiege, Beistellbett, alleine oder 
 gemeinsam? Was brauchen Babys um gut (ein)schlafen zu können?&nbsp;</li></u
 l><div style="box-sizing: border-box;"><br style="box-sizing: border-box;" 
 /></div><ul style="box-sizing: border-box; margin: 0px; padding: 0px 0px 0p
 x 2rem; list-style-position: initial; list-style-image: initial;"><li style
 ="box-sizing: border-box;">Einschlafstillen, Schlafen in der Trage, Körperk
 ontakt und Nähe – eine schlechte Angewohnheit?&nbsp;</li></ul><div style="b
 ox-sizing: border-box;"><br style="box-sizing: border-box;" /></div><ul sty
 le="box-sizing: border-box; margin: 0px; padding: 0px 0px 0px 2rem; list-st
 yle-position: initial; list-style-image: initial;"><li style="box-sizing: b
 order-box;">Fremdbetreuung, Krankheit und Co. Wirkt sich das auf den Babysc
 hlaf aus?&nbsp;</li></ul><div style="box-sizing: border-box;"><br style="bo
 x-sizing: border-box;" /></div><ul style="box-sizing: border-box; margin: 0
 px; padding: 0px 0px 0px 2rem; list-style-position: initial; list-style-ima
 ge: initial;"><li style="box-sizing: border-box;">Wie kann ich mein Baby li
 ebevoll und bindungsorientiert in den Schlaf begleiten?&nbsp;</li></ul><div
  style="box-sizing: border-box;"><br style="box-sizing: border-box;" /></di
 v><ul style="box-sizing: border-box; margin: 0px; padding: 0px 0px 0px 2rem
 ; list-style-position: initial; list-style-image: initial;"><li style="box-
 sizing: border-box;">Babyschlaf und plötzlicher Kindstod.&nbsp; Wie schaffe
  ich eine sichere Schlafumgebung für mein Baby?&nbsp;</li></ul><div style="
 box-sizing: border-box;"><br style="box-sizing: border-box;" /></div><div s
 tyle="box-sizing: border-box;"><br style="box-sizing: border-box;" /></div>
 <div style="box-sizing: border-box;">Außerdem sprechen wir über bindungs- u
 nd bedürfnisorientierte Lösungsansätze für entspanntere Nächte und die Folg
 en und Wirksamkeit von Schlaftrainings.&nbsp;<br style="box-sizing: border-
 box;" /><br style="box-sizing: border-box;" />Babys und Kinder sind beim Wo
 rkshop herzlich Willkommen!<br style="box-sizing: border-box;" /></div><div
 >&nbsp;</div><div>Anmeldung unter:&nbsp;<a href="https://kikudoo.com/for-li
 ttle-ones/courses/EaaR5E" style="letter-spacing: 0.64px; background-color: 
 inherit;">Workshop "ganzheitlicher Babyschlaf" - for little ones (kikudoo.c
 om)</a></div><div>&nbsp;</div><div>for little ones</div><div>&nbsp;</div><d
 iv>Landstraßer Hauptstraße 107</div><div>1030 Wien</div><div>0680 158 26 48
 </div><div>www.for-little-ones.com</div><div>&nbsp;</div></div>
CONTACT:for little ones
X-EXTRAINFO:[preis='3000'][anmeldung='true']
DTSTAMP:20260423T081952
DTSTART:20230512T070000
DTEND:20230512T083000
SEQUENCE:0
TRANSP:OPAQUE
END:VEVENT
END:VCALENDAR