BEGIN:VCALENDAR
VERSION:2.0
PRODID:-//jEvents 2.0 for Joomla//EN
CALSCALE:GREGORIAN
METHOD:PUBLISH
BEGIN:VEVENT
UID:ce94128dccdab6acf8c513665b433485
CATEGORIES:1. Bezirk
CREATED:20230510T073052
SUMMARY:Babycafe in der Babylounge am Stephansplaz
LOCATION:Stephansplatz 4\, Stg.8\, 1.Stock
DESCRIPTION:Exklusive Zeit mit deinem Baby mit Blick auf den Stephansdom!\nAustausch in
  der Kleingruppe, Biotee und Kaffee, sowie Snacks und ein wunderschönes Amb
 iente!\nAm besten mit Tragehilfe kommen, da es nur begrenzt Abstellmöglichk
 eiten für Kinderwägen gibt.\nIch freue mich, dich und dein Baby kennenzuler
 nen!\nKursleitung: Karin Schranz-Klippl\nwww.wunschtraummuschel.at\n
X-ALT-DESC;FMTTYPE=text/html:<p>Exklusive Zeit mit deinem Baby mit Blick auf den Stephansdom!</p><p>Aust
 ausch in der Kleingruppe, Biotee und Kaffee, sowie Snacks und ein wundersch
 önes Ambiente!</p><p>Am besten mit Tragehilfe kommen, da es nur begrenzt Ab
 stellmöglichkeiten für Kinderwägen gibt.</p><p>Ich freue mich, dich und dei
 n Baby kennenzulernen!</p><p>Kursleitung: Karin Schranz-Klippl</p><p>www.wu
 nschtraummuschel.at</p>
CONTACT:info@wunschtraummuschel.at
X-EXTRAINFO:[preis='020'][anmeldung='true']
DTSTAMP:20260423T094613
DTSTART:20230523T120000
DTEND:20230523T140000
SEQUENCE:0
TRANSP:OPAQUE
END:VEVENT
END:VCALENDAR