BEGIN:VCALENDAR
VERSION:2.0
PRODID:-//jEvents 2.0 for Joomla//EN
CALSCALE:GREGORIAN
METHOD:PUBLISH
BEGIN:VEVENT
UID:51676a45f9ab08b36dd87db95031fb17
CATEGORIES:8. Bezirk
CREATED:20230511T124022
SUMMARY:BABYKONZERT / Bach, Mozart, Vivaldi für Babys
LOCATION:Bezirksmuseum Josefstadt\, 8.\, Schmidgasse 18
DESCRIPTION:<p style="border: 0px; font-size: 15px; margin: 0px 0px 1.625em; outline: 0
 px; padding: 0px; vertical-align: baseline; color: #373737;" data-key="51">
 <span style="border: 0px; font-family: inherit; font-style: inherit; font-w
 eight: inherit; margin: 0px; outline: 0px; padding: 0px; vertical-align: ba
 seline;" data-key="52">Eine wunderschöne, melodische Auswahl an Musikstücke
 n für die Jüngsten!</span></p><p style="border: 0px; font-size: 15px; margi
 n: 0px 0px 1.625em; outline: 0px; padding: 0px; vertical-align: baseline; c
 olor: #373737;" data-key="53"><span style="border: 0px; font-family: inheri
 t; font-style: inherit; font-weight: inherit; margin: 0px; outline: 0px; pa
 dding: 0px; vertical-align: baseline;" data-key="54">Auf dem Kuscheldecke o
 der auf einen Sessel, sitzend oder liegend, krabbelnd, herumgehend, klatsch
 end:</span></p><p style="border: 0px; font-size: 15px; margin: 0px 0px 1.62
 5em; outline: 0px; padding: 0px; vertical-align: baseline; color: #373737;"
  data-key="60" data-slate-fragment="JTdCJTIyb2JqZWN0JTIyJTNBJTIyZG9jdW1lbnQ
 lMjIlMkMlMjJkYXRhJTIyJTNBJTdCJTdEJTJDJTIybm9kZXMlMjIlM0ElNUIlN0IlMjJvYmplY3
 QlMjIlM0ElMjJibG9jayUyMiUyQyUyMnR5cGUlMjIlM0ElMjJwYXJhZ3JhcGglMjIlMkMlMjJkY
 XRhJTIyJTNBJTdCJTIyY2xhc3NOYW1lJTIyJTNBbnVsbCU3RCUyQyUyMm5vZGVzJTIyJTNBJTVC
 JTdCJTIyb2JqZWN0JTIyJTNBJTIydGV4dCUyMiUyQyUyMmxlYXZlcyUyMiUzQSU1QiU3QiUyMm9
 iamVjdCUyMiUzQSUyMmxlYWYlMjIlMkMlMjJ0ZXh0JTIyJTNBJTIyRWluZSUyMHd1bmRlcnNjaC
 VDMyVCNm5lJTJDJTIwbWVsb2Rpc2NoZSUyMEF1c3dhaGwlMjBhbiUyME11c2lrc3QlQzMlQkNja
 2VuJTIwZiVDMyVCQ3IlMjBkaWUlMjBKJUMzJUJDbmdzdGVuISUyMiUyQyUyMm1hcmtzJTIyJTNB
 JTVCJTVEJTdEJTVEJTdEJTVEJTdEJTJDJTdCJTIyb2JqZWN0JTIyJTNBJTIyYmxvY2slMjIlMkM
 lMjJ0eXBlJTIyJTNBJTIycGFyYWdyYXBoJTIyJTJDJTIyZGF0YSUyMiUzQSU3QiUyMmNsYXNzTm
 FtZSUyMiUzQW51bGwlN0QlMkMlMjJub2RlcyUyMiUzQSU1QiU3QiUyMm9iamVjdCUyMiUzQSUyM
 nRleHQlMjIlMkMlMjJsZWF2ZXMlMjIlM0ElNUIlN0IlMjJvYmplY3QlMjIlM0ElMjJsZWFmJTIy
 JTJDJTIydGV4dCUyMiUzQSUyMkF1ZiUyMGRlbSUyMEt1c2NoZWxkZWNrZSUyMG9kZXIlMjBhdWY
 lMjBlaW5lbiUyMFNlc3NlbCUyQyUyMHNpdHplbmQlMjBvZGVyJTIwJTIwJTIwJTIwJTIwbGllZ2
 VuZCUyQyUyMGtyYWJiZWxuZCUyQyUyMGhlcnVtZ2VoZW5kJTJDJTIwa2xhdHNjaGVuZCUzQSUyM
 iUyQyUyMm1hcmtzJTIyJTNBJTVCJTVEJTdEJTVEJTdEJTVEJTdEJTJDJTdCJTIyb2JqZWN0JTIy
 JTNBJTIyYmxvY2slMjIlMkMlMjJ0eXBlJTIyJTNBJTIycGFyYWdyYXBoJTIyJTJDJTIyZGF0YSU
 yMiUzQSU3QiUyMmNsYXNzTmFtZSUyMiUzQW51bGwlN0QlMkMlMjJub2RlcyUyMiUzQSU1QiU3Qi
 UyMm9iamVjdCUyMiUzQSUyMnRleHQlMjIlMkMlMjJsZWF2ZXMlMjIlM0ElNUIlN0IlMjJvYmplY
 3QlMjIlM0ElMjJsZWFmJTIyJTJDJTIydGV4dCUyMiUzQSUyMiU1Q25LbGFzc2lrJTIwQ29vbCEl
 MjBCYWJ5a29uemVydGUlMjBzaW5kJTIwa3VyendlaWxpZyUyQyUyMGVudHNwYW5uZW5kJTJDJTI
 wJTIwYW5yZWdlbmQlMkMlMjBhYndlY2hzbHVuZ3NyZWljaC4lMjBTY2hvbiUyMGRpZSUyMEolQz
 MlQkNuZ3N0ZW4lMjByZWFnaWVyZW4lMjBtaXQlMjBJbnRlcmVzc2UlMjBiaXMlMjBCZWdlaXN0Z
 XJ1bmclMjBhdWYlMjBkaWUlMjBrb21wbGV4ZW4lMjBUJUMzJUI2bmUlMkMlMjB3aWVnZW4lMjBz
 aWNoJTIwenVtJTIwUmh5dGhtdXMlMjBkZXIlMjBNdXNpayUyMHVuZCUyMGxhc3NlbiUyMHNpY2g
 lMjB2b24lMjBkZXIlMjBNdXNpa2x1c3QlMjBkZXIlMjBFbHRlcm4lMjBhbnN0ZWNrZW4uJTIyJT
 JDJTIybWFya3MlMjIlM0ElNUIlNUQlN0QlNUQlN0QlNUQlN0QlNUQlN0Q="><span style="bo
 rder: 0px; font-family: inherit; font-style: inherit; font-weight: inherit;
  margin: 0px; outline: 0px; padding: 0px; vertical-align: baseline;" data-k
 ey="59">Klassik Cool! Babykonzerte sind kurzweilig, entspannend, anregend, 
 abwechslungsreich. Schon die Jüngsten reagieren mit Interesse bis Begeister
 ung auf die komplexen Töne, wiegen sich zum Rhythmus der Musik und lassen s
 ich von der Musiklust der Eltern anstecken. Dauer: ca 45 Minuten</span></p>
 <p style="border: 0px; font-size: 15px; margin: 0px 0px 1.625em; outline: 0
 px; padding: 0px; vertical-align: baseline; color: #373737;">Karten: 8 Euro
  pro Person ( sowohl Erwachsene als auch Babys)</p>
CONTACT:Kulturverein grossundklein / www.grossunklein.info
X-EXTRAINFO:[preis='800'][anmeldung='true']
DTSTAMP:20260423T100051
DTSTART:20230517T080000
DTEND:20230517T084000
SEQUENCE:0
TRANSP:OPAQUE
END:VEVENT
END:VCALENDAR