BEGIN:VCALENDAR
VERSION:2.0
PRODID:-//jEvents 2.0 for Joomla//EN
CALSCALE:GREGORIAN
METHOD:PUBLISH
BEGIN:VEVENT
UID:f11eef2dbe2e2586a6da9191d369d99d
CATEGORIES:14. Bezirk
CREATED:19700101T010000
SUMMARY:Babymassage
LOCATION:Nebensitz\, Linzerstraße 365\, 1140 Wien
DESCRIPTION:Im Kurs leite ich euch an euer Baby zu massieren. Die Babymassage ist eine 
 wunderbare Auszeit für Eltern und Kind. Ihr lernt euer Baby noch besser zu 
 verstehen und seine Signale zu deuten. Der Babymassagekurs umfasst 4 Termin
 e zu jeweils ca. 60  Minuten und wird in Kleingruppen abgehalten. Es sind d
 abei beide Elternteile herzlich willkommen. Auch Geschwisterkinder können g
 erne begleiten, sofern sie den Kursablauf nicht stören. Eine Spielecke steh
 t zur Verfügung.Die Babymassage senkt die Stresshormone und hilft dem Baby 
 zur Tiefenentspannung zu kommen, dadurch sorgt sie auch für einen besseren 
 und erholsameren Babyschlaf. Die Babymassage begünstigt die Entwicklung des
  Körperbewusstseins sowie die Sprach- und Lernfähigkeit. Außerdem unterstüt
 zt die Massage die Verbundenheit zwischen Eltern und Kind. Die innigen Mome
 nte während der Massage stärken die Verbindung und das positive Lebensgefüh
 l des Babys. Ihr bekommt ein ausführliches Skript, indem alle wichtigen Inf
 ormationen sowie alle Massagegriffe zu finden sind und ein hochwertiges, ös
 terreichisches Bio Biomassage Öl. Infos zur Teilnahme: \nDer Babymassagekur
 s ist geeignet ab der 6. Lebenswoche bis in etwa zum Krabbelalter.\nAm best
 en planst du direkt im Anschluss an jeder Babymassageeinheit keine großen E
 reignisse da die Kinder meistens sehr müde und entspannt sind und bereits a
 m Heimweg in den Schlaf finden.\nWann: Mittwoch, 10:00 - 11:00 Uhr \nWo: De
 r Nebensitz (https://www.wirbel-wind.at/nebensitz/), Linzerstrasse 365, 114
 0 Wien\nPreis: € 90,- für 4 Einheiten, inkl. Skript und Bio-Massageöl\n
X-ALT-DESC;FMTTYPE=text/html:<div><strong>Im Kurs leite ich euch an euer Baby zu massieren. Die Babymass
 age ist eine wunderbare Auszeit für Eltern und Kind. Ihr lernt euer Baby no
 ch besser zu verstehen und seine Signale zu deuten.</strong></div><div>&nbs
 p;</div><div>Der Babymassagekurs umfasst 4 Termine zu jeweils ca. 60&nbsp; 
 Minuten und wird in Kleingruppen abgehalten. Es sind dabei beide Elternteil
 e herzlich willkommen. Auch Geschwisterkinder können gerne begleiten, sofer
 n sie den Kursablauf nicht stören. Eine Spielecke steht zur Verfügung.</div
 ><div>Die Babymassage senkt die Stresshormone und hilft dem Baby zur Tiefen
 entspannung zu kommen, dadurch sorgt sie auch für einen besseren und erhols
 ameren Babyschlaf.</div><div>&nbsp;</div><div><div>Die Babymassage begünsti
 gt die Entwicklung des Körperbewusstseins sowie die Sprach- und Lernfähigke
 it. Außerdem unterstützt die Massage die Verbundenheit zwischen Eltern und 
 Kind. Die innigen Momente während der Massage stärken die Verbindung und da
 s positive Lebensgefühl des Babys.</div><div>&nbsp;</div><div>Ihr bekommt e
 in ausführliches Skript, indem alle wichtigen Informationen sowie alle Mass
 agegriffe zu finden sind und ein hochwertiges, österreichisches Bio Biomass
 age Öl.</div><div>&nbsp;</div><div><p><strong><span style="text-decoration-
 line: underline;">Infos</span><span style="text-decoration-line: underline;
 "><strong> zur</strong> Teilnahme:&nbsp;</span></strong></p><p style="font-
 size: 17px;">Der Babymassagekurs ist geeignet ab der 6. Lebenswoche bis in 
 etwa zum Krabbelalter.</p><p>Am besten planst du direkt im Anschluss an jed
 er Babymassageeinheit keine großen Ereignisse da die Kinder meistens sehr m
 üde und entspannt sind und bereits am Heimweg in den Schlaf finden.</p><p><
 strong><span style="text-decoration-line: underline;">Wann</span></strong>:
  Mittwoch, 10:00 - 11:00 Uhr&nbsp;<br /><strong><span style="text-decoratio
 n-line: underline;">Wo</span></strong>: Der <a href="https://www.wirbel-win
 d.at/nebensitz/">Nebensitz</a>, Linzerstrasse 365, 1140 Wien</p><p><strong>
 <span style="text-decoration-line: underline;">Preis</span></strong>: € 90,
 - für 4 Einheiten, inkl. Skript und Bio-Massageöl</p></div></div>
CONTACT:info@wirbel-wind.at
X-EXTRAINFO:[preis='9000'][anmeldung='true']
DTSTAMP:20260423T081708
DTSTART:20230607T080000
DTEND:20230607T090000
SEQUENCE:0
RRULE:FREQ=WEEKLY;UNTIL=20230629T000000Z;INTERVAL=1;BYDAY=WE
TRANSP:OPAQUE
END:VEVENT
END:VCALENDAR