BEGIN:VCALENDAR
VERSION:2.0
PRODID:-//jEvents 2.0 for Joomla//EN
CALSCALE:GREGORIAN
METHOD:PUBLISH
BEGIN:VEVENT
UID:967e49363422d672959f24075998a808
CATEGORIES:22. Bezirk
CREATED:20230515T191551
SUMMARY:Erste-Hilfe-Kurs für Kindernotfälle
LOCATION:Babypraxis\, Gemeindeaugasse 19/ 2. Stock/ Top 7 
DESCRIPTION:<p><strong>Erste-Hilfe-Kurs für Kindernotfälle</strong></p><p><strong>Im No
 tfall bereit sein!</strong></p><p>Inhalt:</p><ul type="disc"><li>Erste-Hilf
 e-Grundlagen</li><li>Stabile Seitenlage &amp; Wiederbelebung</li><li>Starke
  Blutung</li><li>Verschlucken</li><li>Vergiftung</li><li>Verbrennung</li><l
 i>Allergische Reaktion</li><li>Unfallverhütung</li></ul><p>Theorie &amp; Tr
 aining! Die praktischen Teile des Kurses werden an geeigneten Reanimationsp
 uppen geübt</p><p>Dauer: 4 Stunden</p><p>Kosten: 55€/ Person, 90€/ Paar</p>
 <p>Vortragende: Dr. med. univ Mery Dawoud (Gründerin von Erste Hilfe Los!)<
 /p><p>Dieser Kurs soll Eltern bzw. werdenden Eltern, Großeltern, Tanten, On
 keln und allen anderen Menschen mit Kontakt zu Kindern oder Säuglingen Sich
 erheit geben, im Notfall richtig zu reagieren.&nbsp;</p>
CONTACT:office@erstehilfelos.at
X-EXTRAINFO:[preis='5500'][anmeldung='true']
DTSTAMP:20260423T141929
DTSTART:20230617T110000
DTEND:20230617T150000
SEQUENCE:0
TRANSP:OPAQUE
END:VEVENT
END:VCALENDAR