BEGIN:VCALENDAR
VERSION:2.0
PRODID:-//jEvents 2.0 for Joomla//EN
CALSCALE:GREGORIAN
METHOD:PUBLISH
BEGIN:VEVENT
UID:94ae53787ec6b747f1bc9a98db847790
CATEGORIES:6. Bezirk
CREATED:20230519T201500
SUMMARY:Baby-Cafe
LOCATION:6.\, Sandwirtgasse 13/12
DESCRIPTION:<h1><span lang="DE-AT">Baby-Café</span></h1><h2><span lang="DE-AT">Kaffeeha
 us-Flair mit Kinderspielzeug</span></h2><p><strong><span lang="DE-AT">Bei r
 ichtig gutem Fair-Trade-Kaffee, erfrischendem Eistee und leckerem selbstgem
 achten Bio-Gugelhupf kannst du dich entspannt zurücklehnen, deinem Kind bei
 m Spielen in unseren übersichtlichen, kindersicheren Räumlichkeiten zusehen
  und mit anderen Mamas und Papas plaudern.</span></strong></p><p style="mar
 gin: 0cm; margin-bottom: .0001pt;"><strong><span lang="DE-AT">Wann</span></
 strong><span lang="DE-AT">: montags und freitags (nicht an Schulferien!)</s
 pan></p><p style="margin: 0cm; margin-bottom: .0001pt;"><strong><span lang=
 "DE-AT">Uhrzeit</span></strong><span lang="DE-AT">: zwischen 9.00 - 12.00 U
 hr</span></p><p style="margin: 0cm; margin-bottom: .0001pt;"><strong><span 
 lang="DE-AT">Wo</span></strong><span lang="DE-AT">: Biolino Institut, Sandw
 irtgasse 13, 1060 Wien</span></p><p style="margin: 0cm; margin-bottom: .000
 1pt;"><span lang="DE-AT"></span></p><p style="margin: 0cm; margin-bottom: .
 0001pt; line-height: 13.65pt;"><strong><span lang="DE-AT">Kosten</span></st
 rong><span lang="DE-AT">: € 12,- Eintritt pro Erwachsenen inkl. Spielebeitr
 ag und Bio-Kaffee (oder Bio-Tee, Bio-Kakao, Bio-Saft) und Bio-Gugelhupf (od
 er Bio-Obst)/ Nur Barzahlung möglich!</span></p><p style="margin: 0cm; marg
 in-bottom: .0001pt; line-height: 13.65pt;"><span lang="DE-AT"></span></p><p
  style="margin: 0cm; margin-bottom: .0001pt;"><span lang="DE-AT">Bitte meld
 e dich unbedingt <a href="https://www.biolino.at/baby-cafe/">HIER </a>an.</
 span></p><p style="margin: 0cm; margin-bottom: .0001pt; line-height: 13.65p
 t;"><span lang="DE-AT"></span></p><p class="MsoNormal"><span lang="DE-AT" s
 tyle="color: black;">Es gibt&nbsp;Platz für <strong>6-8 Kinderwägen</strong
 >. Bei gutem Wetter kannst du auch im geschützten Innenhof parken. Wenn es 
 dir möglich ist, komm&nbsp;gerne mit deiner Tragehilfe - so haben wir alle 
 mehr Platz zum Wohlfühlen.</span><span lang="DE-AT"> </span></p><p style="m
 argin: 0cm; margin-bottom: .0001pt;"><span lang="DE-AT">Weitere Infos finde
 st du hier: <a href="https://www.biolino.at/baby-cafe/">https://www.biolino
 .at/baby-cafe/</a><br /></span></p><p style="margin: 0cm; margin-bottom: .0
 001pt;"><span lang="DE-AT"></span></p><p style="margin: 0cm; margin-bottom:
  .0001pt;"><span lang="DE-AT">Schau vorbei zum Spielen und Plaudern.</span>
 </p><p style="margin: 0cm; margin-bottom: .0001pt;"><span lang="DE-AT">Ich 
 freue mich auf dich!</span></p><p style="margin: 0cm; margin-bottom: .0001p
 t;"><span lang="DE-AT">Alles Liebe,</span></p><p style="margin: 0cm; margin
 -bottom: .0001pt;"><span lang="DE-AT">Martina</span></p>
CONTACT:martina.novak@biolino.at, 067762892970
X-EXTRAINFO:[preis='1200'][anmeldung='true']
DTSTAMP:20260423T100227
DTSTART:20230522T070000
DTEND:20230626T100000
SEQUENCE:0
TRANSP:OPAQUE
END:VEVENT
END:VCALENDAR