BEGIN:VCALENDAR
VERSION:2.0
PRODID:-//jEvents 2.0 for Joomla//EN
CALSCALE:GREGORIAN
METHOD:PUBLISH
BEGIN:VEVENT
UID:dda0fb0da51c173fdf46eec8f53b49e8
CATEGORIES:8. Bezirk
CREATED:20230524T115528
SUMMARY:Babykino MAMMA ANTE PORTAS 
LOCATION:Währingerstraße 12
DESCRIPTION:<p style="margin: 0px; font-stretch: normal; line-height: normal; font-fami
 ly: 'Helvetica Neue';">Jeden zweiten Dienstag laufen die wichtigsten Filme 
 aus unserem Programm als Babykino Vorstellungen in einem nicht gänzlich abg
 edunkeltem Saal mit etwas leiserem Ton. Vor der Vorstellung kann man sich i
 n unserem Café zu Kaffee und Kuchen treffen, und während des Films stehen W
 ickeltische und ein Fläschchenwärmer zur Verfügung.</p><p style="margin: 0p
 x; font-stretch: normal; line-height: normal; font-family: 'Helvetica Neue'
 ;">11:00 Uhr MAMMA ANTE PORTAS&nbsp;</p><p style="margin: 0px; font-stretch
 : normal; line-height: normal; font-family: 'Helvetica Neue';">11:30 Uhr AL
 L THE BEAUTY AND THE BLOODSHED</p><p style="margin: 0px; font-stretch: norm
 al; line-height: normal; font-family: 'Helvetica Neue'; color: #dca10d;"><s
 pan style="color: #000000;">Tickets und Informationen unter <a href="https:
 //www.votivkino.at/specials/babykino">https://www.votivkino.at/specials/bab
 ykino</a>&nbsp;</span></p>
CONTACT:Votiv Kino
X-EXTRAINFO:[preis='750'][anmeldung='false']
DTSTAMP:20260423T123442
DTSTART:20230530T090000
DTEND:20230530T130000
SEQUENCE:0
TRANSP:OPAQUE
END:VEVENT
END:VCALENDAR