BEGIN:VCALENDAR
VERSION:2.0
PRODID:-//jEvents 2.0 for Joomla//EN
CALSCALE:GREGORIAN
METHOD:PUBLISH
BEGIN:VEVENT
UID:088a77ba097723c838e86e903bb32919
CATEGORIES:18. Bezirk
CREATED:20230525T125816
SUMMARY:Mini-Flohmarkt
LOCATION:Mal-Atelier Gersthof\, Gersthofer Str. 128\, 1180 Wien
DESCRIPTION:<p>Kindersachen (v.a. für Minis 0-3J), Spielzeug, Mal- und Bastelutensilien
 , Inventar etc.</p><p>Das Mal-Atelier wird aufgelöst!</p><p>Sonntag, 18.6.:
  10-12 Uhr und 14-16Uhr</p>
CONTACT:info@mal-atelier.at
DTSTAMP:20260425T122005
DTSTART:20230618T080000
DTEND:20230618T140000
SEQUENCE:0
TRANSP:OPAQUE
END:VEVENT
END:VCALENDAR