BEGIN:VCALENDAR
VERSION:2.0
PRODID:-//jEvents 2.0 for Joomla//EN
CALSCALE:GREGORIAN
METHOD:PUBLISH
BEGIN:VEVENT
UID:0f2c3c9fb47d33966119c26c0120eee1
CATEGORIES:2. Bezirk
CREATED:20230530T092710
SUMMARY:SOMMERFEST mamaFIT mit Nina & Adriana
LOCATION:Augarten 
DESCRIPTION:\n Am Samstag, dem 17. Juni, findet das SOMMERFEST von mamaFIT mit Nina &am
 p; Adriana im Augarten statt. \n\nMamas, Papas, Omas, Opas, Onkel, Tanten, 
 Geschwister etc. sind herzlich eingeladen daran teilzunehmen. Jede Teilnehm
 erin/jeder Teilnehmer an einem der Workouts nimmt automatisch an der Verlos
 ung der Tombola teil! Tolle Preise warten auf euch (z.B. THULE Cityglide 2 
 oder eine Babytrage von ERGOBABY)\n\nWir freuen uns auf euch und einen toll
 en Vormittag!\n\nWann: Samstag, 17. Juni 2023 \nUhrzeit: 10.00 – 13.00 Uhr 
 \nWo: Augarten, Wiese bei Eingang Gaußplatz \n \nPROGRAMM \n\n10.00 Uhr: Wo
 rkouts \n– mamaFIT mit Adriana \n– Bootcamp mit Nina \n– Kidsfit \n\n11.00 
 Uhr: Impulsvorträge \n– Tragen/Essen/Schlafen von “For little ones” \n– Äth
 erische Öle für die ganze Familie von “doTerra” \n\n11.30 Uhr: Kids Show \n
 Rectusdiastase Chek \n\n12.00 Uhr: Tombola mit tollen Preisen unserer Koope
 rationspartner \nPinata \n\nim Anschluss: Picknick/Austausch \nBitte bringt
  eine Picknick-Decke und Snacks/Getränke für euch und eure Kinder mit!\n\n 
 Du hast Fragen? Dann wende dich bitte an Adriana oder Nina! \nNina: nina.za
 dina-benedikt@mamafit.at (mailto:nina.zadina-benedikt@mamafit.at)\nAdriana:
  Adriana.vasquez@mamafit.at (mailto:Adriana.vasquez@mamafit.at) \n\n Wir mö
 chten uns bei unseren Kooperationspartner herzlich für ihre Unterstützung b
 edanken! THULE, ERGOBABY, mamalila, Poppy’s, Paperlatur, Tiny Society, doTe
 rra u.v.m\n
X-ALT-DESC;FMTTYPE=text/html:<p><br /> Am Samstag, dem 17. Juni, findet das SOMMERFEST von mamaFIT mit N
 ina &amp; Adriana im Augarten statt. <br /><br />Mamas, Papas, Omas, Opas, 
 Onkel, Tanten, Geschwister etc. sind herzlich eingeladen daran teilzunehmen
 . Jede Teilnehmerin/jeder Teilnehmer an einem der Workouts nimmt automatisc
 h an der Verlosung der Tombola teil! Tolle Preise warten auf euch (z.B. THU
 LE Cityglide 2 oder eine Babytrage von ERGOBABY)<br /><br />Wir freuen uns 
 auf euch und einen tollen Vormittag!<br /><br /><strong>Wann: Samstag, 17. 
 Juni 2023 <br />Uhrzeit: 10.00 – 13.00 Uhr <br />Wo: Augarten, Wiese bei Ei
 ngang Gaußplatz </strong><br />&nbsp;<br />PROGRAMM <br /><br /><strong>10.
 00 Uhr: Workouts </strong><br />– mamaFIT mit Adriana <br />– Bootcamp mit 
 Nina <br />– Kidsfit <br /><br /><strong>11.00 Uhr: Impulsvorträge </strong
 ><br />– Tragen/Essen/Schlafen von “For little ones” <br />– Ätherische Öle
  für die ganze Familie von “doTerra” <br /><br /><strong>11.30 Uhr: Kids Sh
 ow </strong><br />Rectusdiastase Chek <br /><br /><strong>12.00 Uhr: Tombol
 </strong>a mit tollen Preisen unserer Kooperationspartner <br />Pinata <br 
 /><br /><strong>im Anschluss: Picknick/Austausch</strong> <br />Bitte bring
 t eine Picknick-Decke und Snacks/Getränke für euch und eure Kinder mit!<br 
 /><br /> Du hast Fragen? Dann wende dich bitte an Adriana oder Nina! <br />
 Nina: <a href="mailto:nina.zadina-benedikt@mamafit.at">nina.zadina-benedikt
 @mamafit.at</a><br />Adriana: <a href="mailto:Adriana.vasquez@mamafit.at">A
 driana.vasquez@mamafit.at</a> <br /><strong><br /> Wir möchten uns bei unse
 ren Kooperationspartner herzlich für ihre Unterstützung bedanken! THULE, ER
 GOBABY, mamalila, Poppy’s, Paperlatur, Tiny Society, doTerra u.v.m</strong>
 </p>
CONTACT:Mag. Nina Zadina-Benedikt
X-EXTRAINFO:[preis='1200'][anmeldung='false']
DTSTAMP:20260423T142700
DTSTART:20230617T080000
DTEND:20230617T110000
SEQUENCE:0
TRANSP:OPAQUE
END:VEVENT
END:VCALENDAR