BEGIN:VCALENDAR
VERSION:2.0
PRODID:-//jEvents 2.0 for Joomla//EN
CALSCALE:GREGORIAN
METHOD:PUBLISH
BEGIN:VEVENT
UID:58b33b02c7d83c7221eb049d7784a703
CATEGORIES:23. Bezirk
CREATED:19700101T010000
SUMMARY:fitdankbaby - Fitness für dich und dein Baby
LOCATION:Better Tennis Center Alt Erlaa\,  Erlaaer Str. 56A\, 1230 Wien
DESCRIPTION:<div class="x11i5rnm xat24cr x1mh8g0r x1vvkbs xdj266r" style="border: none;
  line-height: 1.5em; color: #000000; font-family: 'Roboto Condensed', sans-
 serif; font-size: 15px;">fitdankbaby Fitnesskurs für Mamas mit Babys&nbsp;a
 b 3 Monaten</div><div class="x11i5rnm xat24cr x1mh8g0r x1vvkbs xdj266r" sty
 le="border: none; line-height: 1.5em; color: #000000; font-family: 'Roboto 
 Condensed', sans-serif; font-size: 15px;">&nbsp;</div><div class="x11i5rnm 
 xat24cr x1mh8g0r x1vvkbs xdj266r" style="border: none; line-height: 1.5em; 
 color: #000000; font-family: 'Roboto Condensed', sans-serif; font-size: 15p
 x;">&nbsp;</div><div class="x11i5rnm xat24cr x1mh8g0r x1vvkbs xtlvy1s" styl
 e="border: none; line-height: 1.5em; color: #000000; font-family: 'Roboto C
 ondensed', sans-serif; font-size: 15px;">Das erwartet Dich:</div><div class
 ="x11i5rnm xat24cr x1mh8g0r x1vvkbs xtlvy1s" style="border: none; line-heig
 ht: 1.5em; color: #000000; font-family: 'Roboto Condensed', sans-serif; fon
 t-size: 15px;">- Fitnesskurs mit deinem Baby<br />- Effektives Ganzkörperwo
 rkout<br />- Gemeinsame Zeit mit viel Spaß für Mama UND Baby<br />- Dein Ba
 by ist die gesamte Stunde eingebunden.<br />- Kreative Babyspiele und -lied
 er, um dein Baby aktiv in seiner Entwicklung zu unterstützen</div><div clas
 s="x11i5rnm xat24cr x1mh8g0r x1vvkbs xtlvy1s" style="border: none; line-hei
 ght: 1.5em; color: #000000; font-family: 'Roboto Condensed', sans-serif; fo
 nt-size: 15px;">&nbsp;</div><div class="x11i5rnm xat24cr x1mh8g0r x1vvkbs x
 tlvy1s" style="border: none; line-height: 1.5em; color: #000000; font-famil
 y: 'Roboto Condensed', sans-serif; font-size: 15px;">&nbsp;</div><div class
 ="x11i5rnm xat24cr x1mh8g0r x1vvkbs xtlvy1s" style="border: none; line-heig
 ht: 1.5em; color: #000000; font-family: 'Roboto Condensed', sans-serif; fon
 t-size: 15px;"><strong>Eine Schnupperstunde und ein Einstieg in den laufend
 en Kurs sind jederzeit möglich.</strong></div><div class="x11i5rnm xat24cr 
 x1mh8g0r x1vvkbs xtlvy1s" style="border: none; line-height: 1.5em; color: #
 000000; font-family: 'Roboto Condensed', sans-serif; font-size: 15px;">&nbs
 p;</div><div class="x11i5rnm xat24cr x1mh8g0r x1vvkbs xtlvy1s" style="borde
 r: none; line-height: 1.5em; color: #000000; font-family: 'Roboto Condensed
 ', sans-serif; font-size: 15px;">Buchung und weitere Informationen unter&nb
 sp;<a href="https://www.fitdankbaby.at/claudia.klinger?fbclid=IwAR3K3YDSLTS
 jMi32jsQ7r2ScxoSryBV7dmjRojgQL35_YoolCFrzaTNpIA0" target="_blank" rel="nofo
 llow noopener noreferrer" class="x1i10hfl xjbqb8w x6umtig x1b1mbwd xaqea5y 
 xav7gou x9f619 x1ypdohk xt0psk2 xe8uvvx xdj266r x11i5rnm xat24cr x1mh8g0r x
 exx8yu x4uap5 x18d9i69 xkhd6sd x16tdsg8 x1hl2dhg xggy1nq x1a2a7pz xt0b8zv x
 1fey0fg" style="color: #8a1878; text-decoration-line: none;" tabindex="0">h
 ttps://www.fitdankbaby.at/claudia.klinger</a>&nbsp;oder claudia.klinger@fit
 dankbaby.at</div>
CONTACT:Claudia Klinger - claudia.klinger@fitdankbaby.at
X-EXTRAINFO:[preis='1300'][anmeldung='true']
DTSTAMP:20260423T144546
DTSTART:20230629T071500
DTEND:20230629T083000
SEQUENCE:0
RRULE:FREQ=WEEKLY;COUNT=5;INTERVAL=1;BYDAY=TH
TRANSP:OPAQUE
END:VEVENT
END:VCALENDAR