BEGIN:VCALENDAR
VERSION:2.0
PRODID:-//jEvents 2.0 for Joomla//EN
CALSCALE:GREGORIAN
METHOD:PUBLISH
BEGIN:VEVENT
UID:682d53071b827580e027c22950e56192
CATEGORIES:23. Bezirk
CREATED:19700101T010000
SUMMARY:fitdankbaby PRE - Fitness für Schwangere
LOCATION:Pfarre Neuerlaa - Welingergasse 5 - 1230 Wien
DESCRIPTION:<div class="x11i5rnm xat24cr x1mh8g0r x1vvkbs xdj266r" style="border: none;
  line-height: 1.5em; color: #000000; font-family: 'Roboto Condensed', sans-
 serif; font-size: 15px;">fitdankbaby Fitnesskurs für Schwangere ab der 14. 
 Schwangerschaftswoche</div><div class="x11i5rnm xat24cr x1mh8g0r x1vvkbs xd
 j266r" style="border: none; line-height: 1.5em; color: #000000; font-family
 : 'Roboto Condensed', sans-serif; font-size: 15px;">&nbsp;</div><div class=
 "x11i5rnm xat24cr x1mh8g0r x1vvkbs xdj266r" style="border: none; line-heigh
 t: 1.5em; color: #000000; font-family: 'Roboto Condensed', sans-serif; font
 -size: 15px;">&nbsp;</div><div class="x11i5rnm xat24cr x1mh8g0r x1vvkbs xtl
 vy1s" style="border: none; line-height: 1.5em; color: #000000; font-family:
  'Roboto Condensed', sans-serif; font-size: 15px;">Das erwartet Dich:</div>
 <div class="x11i5rnm xat24cr x1mh8g0r x1vvkbs xtlvy1s" style="border: none;
  line-height: 1.5em; color: #000000; font-family: 'Roboto Condensed', sans-
 serif; font-size: 15px;">- Fitnesskurs, abgestimmt auf deine Bedürfnisse al
 s Schwangere<br />- Effektives Ganzkörperworkout<br />- Austausch und Konta
 kteknüpfen mit anderen Schwangeren</div><div class="x11i5rnm xat24cr x1mh8g
 0r x1vvkbs xtlvy1s" style="border: none; line-height: 1.5em; color: #000000
 ; font-family: 'Roboto Condensed', sans-serif; font-size: 15px;">&nbsp;</di
 v><div class="x11i5rnm xat24cr x1mh8g0r x1vvkbs xtlvy1s" style="border: non
 e; line-height: 1.5em; color: #000000; font-family: 'Roboto Condensed', san
 s-serif; font-size: 15px;">&nbsp;</div><div class="x11i5rnm xat24cr x1mh8g0
 r x1vvkbs xtlvy1s" style="border: none; line-height: 1.5em; color: #000000;
  font-family: 'Roboto Condensed', sans-serif; font-size: 15px;"><strong>Ein
 e Schnupperstunde und ein Einstieg in den laufenden Kurs sind jederzeit mög
 lich.</strong></div><div class="x11i5rnm xat24cr x1mh8g0r x1vvkbs xtlvy1s" 
 style="border: none; line-height: 1.5em; color: #000000; font-family: 'Robo
 to Condensed', sans-serif; font-size: 15px;">&nbsp;</div><div class="x11i5r
 nm xat24cr x1mh8g0r x1vvkbs xtlvy1s" style="border: none; line-height: 1.5e
 m; color: #000000; font-family: 'Roboto Condensed', sans-serif; font-size: 
 15px;">Buchung und weitere Informationen unter&nbsp;<a href="https://www.fi
 tdankbaby.at/claudia.klinger?fbclid=IwAR3K3YDSLTSjMi32jsQ7r2ScxoSryBV7dmjRo
 jgQL35_YoolCFrzaTNpIA0" target="_blank" rel="nofollow noopener noreferrer" 
 class="x1i10hfl xjbqb8w x6umtig x1b1mbwd xaqea5y xav7gou x9f619 x1ypdohk xt
 0psk2 xe8uvvx xdj266r x11i5rnm xat24cr x1mh8g0r xexx8yu x4uap5 x18d9i69 xkh
 d6sd x16tdsg8 x1hl2dhg xggy1nq x1a2a7pz xt0b8zv x1fey0fg" style="color: #8a
 1878; text-decoration-line: none;" tabindex="0">https://www.fitdankbaby.at/
 claudia.klinger</a>&nbsp;oder claudia.klinger@fitdankbaby.at</div>
CONTACT:Claudia Klinger - claudia.klinger@fitdankbaby.at
X-EXTRAINFO:[preis='1300'][anmeldung='true']
DTSTAMP:20260423T210404
DTSTART:20230628T160000
DTEND:20230628T170000
SEQUENCE:0
RRULE:FREQ=WEEKLY;COUNT=5;INTERVAL=1;BYDAY=WE
TRANSP:OPAQUE
END:VEVENT
END:VCALENDAR