BEGIN:VCALENDAR
VERSION:2.0
PRODID:-//jEvents 2.0 for Joomla//EN
CALSCALE:GREGORIAN
METHOD:PUBLISH
BEGIN:VEVENT
UID:fc76c11e5d5f00fce3a66148d0a85d3d
CATEGORIES:1. Bezirk
CREATED:20230608T164944
SUMMARY:Babycafe in der Babylounge am Stephansplatz mit PersonalTrainer  "Bodymindset" Bilal Heinrich  
LOCATION:Stephansplatz 4\, Stg.8\, 1.Stock
DESCRIPTION:<p>Exklusive Zeit mit deinem Baby mit Blick auf den Stephansdom, Biotee und
  Snacks, Austausch mit anderen Mamas. Bil beantwortet alle Fragen zum Thema
  "Bodymindset", Physio und Personal Training, Rückentraining u.v.m</p><p>Wi
 r freuen uns auf euch!</p><p>www.wunschtraummuschel.at</p>
CONTACT:info@wunschtraummuschel.at
X-EXTRAINFO:[preis='2000'][anmeldung='true']
DTSTAMP:20260423T100656
DTSTART:20230620T120000
DTEND:20230620T140000
SEQUENCE:0
TRANSP:OPAQUE
END:VEVENT
END:VCALENDAR