BEGIN:VCALENDAR
VERSION:2.0
PRODID:-//jEvents 2.0 for Joomla//EN
CALSCALE:GREGORIAN
METHOD:PUBLISH
BEGIN:VEVENT
UID:9d1870a6ed95731039eeb7fea1d96d38
CATEGORIES:14. Bezirk
CREATED:19700101T010000
SUMMARY:Eltern-Baby-Treff
LOCATION:TRaum 14\, Hauptstraße 29\, 1140 Wien
DESCRIPTION:Einfach mal einen Kaffee trinken, sich mit anderen Eltern austauschen, die 
 vier Wände wechseln und bei Schönwetter im Garten das Elternglück genießen 
 – das möchten wir bei diesen Eltern-Baby-Treffs anbieten.Wir treffen uns in
  entspannter Atmosphäre, wo unsere Kinder spielen, liegen, robben, schauen,
  schlafen,… können. Bei Schönwetter sind wir im großen Garten, also Picknic
 k Decke einpacken ;)\nKaffee und Kuchen für die Großen und Obst für die Kle
 inen wird bereitgestellt. Wir freuen uns auf deine Anmeldung unter info@mim
 o.wien (mailto:info@mimo.wien) \nAlle Infos auch unter https://mimo.wien/ba
 by/ (https://mimo.wien/baby/) \n
X-ALT-DESC;FMTTYPE=text/html:<p style="box-sizing: inherit; padding: 0px; margin: 32px auto; -webkit-fon
 t-smoothing: antialiased; max-width: calc(750px); word-wrap: break-word; ca
 ret-color: #303030; color: #303030; font-family: Roboto, -apple-system, Bli
 nkMacSystemFont, 'Segoe UI', Roboto, Oxygen, Ubuntu, Cantarell, 'Fira Sans'
 , 'Droid Sans', 'Helvetica Neue', sans-serif; font-size: 20px;">Einfach mal
  einen Kaffee trinken, sich mit anderen Eltern austauschen, die vier Wände 
 wechseln und bei Schönwetter im Garten das Elternglück genießen – das möcht
 en wir bei diesen Eltern-Baby-Treffs anbieten.<br style="box-sizing: inheri
 t; max-width: unset;" />Wir treffen uns in entspannter Atmosphäre, wo unser
 e Kinder spielen, liegen, robben, schauen, schlafen,… können. Bei Schönwett
 er sind wir im großen Garten, also Picknick Decke einpacken ;)</p><p style=
 "box-sizing: inherit; padding: 0px; margin: 32px auto; -webkit-font-smoothi
 ng: antialiased; max-width: calc(750px); word-wrap: break-word; caret-color
 : #303030; color: #303030; font-family: Roboto, -apple-system, BlinkMacSyst
 emFont, 'Segoe UI', Roboto, Oxygen, Ubuntu, Cantarell, 'Fira Sans', 'Droid 
 Sans', 'Helvetica Neue', sans-serif; font-size: 20px;">Kaffee und Kuchen fü
 r die Großen und Obst für die Kleinen wird bereitgestellt.&nbsp;<br style="
 box-sizing: inherit; max-width: unset;" />Wir freuen uns auf deine Anmeldun
 g unter&nbsp;<a href="mailto:info@mimo.wien" style="box-sizing: inherit; ba
 ckground-color: transparent; color: #19744c; cursor: pointer; max-width: un
 set; text-decoration: none;">info@mimo.wien</a>&nbsp;<br />Alle Infos auch 
 unter&nbsp;<a href="https://mimo.wien/baby/">https://mimo.wien/baby/</a>&nb
 sp;</p>
CONTACT:info@mimo.wien
X-EXTRAINFO:[preis='900'][anmeldung='true']
DTSTAMP:20260423T081857
DTSTART:20230629T073000
DTEND:20230629T093000
SEQUENCE:0
RRULE:FREQ=WEEKLY;UNTIL=20230825T000000Z;INTERVAL=1;BYDAY=TH
TRANSP:OPAQUE
END:VEVENT
END:VCALENDAR