BEGIN:VCALENDAR
VERSION:2.0
PRODID:-//jEvents 2.0 for Joomla//EN
CALSCALE:GREGORIAN
METHOD:PUBLISH
BEGIN:VEVENT
UID:9e6cf51a1573b91ef0e2b2d89dcf876b
CATEGORIES:13. Bezirk
CREATED:19700101T010000
SUMMARY:YOGA für Schwangere
LOCATION:Veda Vital\, altgasse 23/8 1130 Wien
DESCRIPTION:Bleib FIT und SCHÖN mit YOGA\nYoga für Schwangere ist eine ideale Vorbereit
 ung um die werdende Mutter auf die großen Veränderungen und Herausforderung
 en in der Schwangerschaft zu begleiten. Atem- Tönungs- und Yogaübungen, erm
 öglichen Dir Körper und Geist auf die Geburt vorzubereiten, die Veränderung
 en während der Schwangerschaft bewusster wahrzunehmen und eine enge Verbind
 ung zu Deinem Baby aufzubauen. Geführte Meditationen und extra lange Endent
 spannungen runden das   \nDie Übungen sind für Frauen mit und ohne Yoga Erf
 ahrung und in jedem Stadium der Schwangerschaft geeignet. \n \nYoga hilft B
 eschwerden wie Rückenprobleme, Kopfschmerzen oder Sodbrennen zu lindern. Es
  wirkt stärkend auf die Muskulatur, die Gelenke und die inneren Organe, die
  während der Schwangerschaft mehr beansprucht werden.\nIm Schwangerenyoga g
 eht es vor allem darum, den Körper sanft zu unterstützen und ihn auf keinen
  Fall zu überfordern. Es geht darum gut in sich hinein zu spüren und sich d
 ie Pausen zu gönnen, die man braucht. Gleichzeitig stärken wir sanft die Rü
 ckenmuskulatur, den Beckenboden und auch die Beinmuskulatur.\nSo wird der Y
 ogakurs zu einer optimalen Geburtsvorbereitung und einem wunderbaren sanfte
 n Trainingsformat.\n \nEmpfohlen ab der 12. SSW aber es sind natürlich Schw
 angere jeden Trimesters sind Willkommen. Wenn du unsicher bist, stimme mit 
 deinem Arzt ab, ob Du am Yogaunterricht teilnehmen darfst.\n
X-ALT-DESC;FMTTYPE=text/html:<p>Bleib FIT und SCHÖN mit YOGA</p><p style="margin: 0px; font-stretch: nor
 mal; font-size: 11px; line-height: normal; font-family: 'Helvetica Neue'; c
 olor: #000000; min-height: 12px;">Yoga für Schwangere ist eine ideale Vorbe
 reitung um die werdende Mutter auf die großen Veränderungen und Herausforde
 rungen in der Schwangerschaft zu begleiten. <strong>Atem- Tönungs- und Yoga
 übungen</strong>, ermöglichen Dir Körper und Geist auf die Geburt vorzubere
 iten, die Veränderungen während der Schwangerschaft bewusster wahrzunehmen 
 und eine enge Verbindung zu Deinem Baby aufzubauen. Geführte Meditationen u
 nd extra lange Endentspannungen runden das &nbsp;&nbsp;</p><p style="margin
 : 0px; font-stretch: normal; font-size: 11px; line-height: normal; font-fam
 ily: 'Helvetica Neue'; color: #000000;">Die Übungen sind für Frauen mit und
  ohne Yoga Erfahrung und in jedem Stadium der Schwangerschaft geeignet.&nbs
 p;</p><p style="margin: 0px; font-stretch: normal; font-size: 11px; line-he
 ight: normal; font-family: 'Helvetica Neue'; color: #000000; min-height: 12
 px;">&nbsp;</p><p style="margin: 0px; font-stretch: normal; font-size: 11px
 ; line-height: normal; font-family: 'Helvetica Neue'; color: #000000;">Yoga
  hilft Beschwerden wie Rückenprobleme, Kopfschmerzen oder Sodbrennen zu lin
 dern. Es wirkt stärkend auf die Muskulatur, die Gelenke und die inneren Org
 ane, die während der Schwangerschaft mehr beansprucht werden.</p><p style="
 margin: 0px; font-stretch: normal; font-size: 11px; line-height: normal; fo
 nt-family: 'Helvetica Neue'; color: #000000;">Im Schwangerenyoga geht es vo
 r allem darum, den Körper sanft zu unterstützen und ihn auf keinen Fall zu 
 überfordern. Es geht darum gut in sich hinein zu spüren und sich die Pausen
  zu gönnen, die man braucht. Gleichzeitig stärken wir sanft die Rückenmusku
 latur, den Beckenboden und auch die Beinmuskulatur.</p><p style="margin: 0p
 x; font-stretch: normal; font-size: 11px; line-height: normal; font-family:
  'Helvetica Neue'; color: #000000;">So wird der Yogakurs zu einer optimalen
  Geburtsvorbereitung und einem wunderbaren sanften Trainingsformat.</p><p s
 tyle="margin: 0px; font-stretch: normal; font-size: 11px; line-height: norm
 al; font-family: 'Helvetica Neue'; color: #000000; min-height: 12px;">&nbsp
 ;</p><p style="margin: 0px; font-stretch: normal; font-size: 11px; line-hei
 ght: normal; font-family: 'Helvetica Neue'; color: #000000;">Empfohlen ab d
 er 12. SSW aber es sind natürlich Schwangere jeden Trimesters sind Willkomm
 en. Wenn du unsicher bist, stimme mit deinem Arzt ab, ob Du am Yogaunterric
 ht teilnehmen darfst.</p>
CONTACT:office@yogavibe.at
X-EXTRAINFO:[preis='1950'][anmeldung='true']
DTSTAMP:20260423T112257
DTSTART:20230704T150000
DTEND:20230704T163000
SEQUENCE:0
RRULE:FREQ=WEEKLY;COUNT=7;INTERVAL=1;BYDAY=TU
TRANSP:OPAQUE
END:VEVENT
END:VCALENDAR