BEGIN:VCALENDAR
VERSION:2.0
PRODID:-//jEvents 2.0 for Joomla//EN
CALSCALE:GREGORIAN
METHOD:PUBLISH
BEGIN:VEVENT
UID:c66d3025c18e6006f40bf894e893980a
CATEGORIES:2. Bezirk
CREATED:20230628T105906
SUMMARY:Wut, Verzweiflung, Frust - und nun? Workshop 
LOCATION:Kind&amp;Kegel Eltern-Kind-Zentrum 1020\, Praterstraße 14/8
DESCRIPTION:Wut, Verzweiflung, Frust – und nun?\n über Klarheit, Kommunikation und Vera
 ntwortung [Workshop] \nAls Eltern müssen wir immer wieder Entscheidungen tr
 effen, die unangenehm für das Kind sind und mitunter Schmerz, Wut und ärger
  hervorrufen.\n \nWie wir mit dem dadurch ausgelösten Frust umgehen können,
  die Gefühle unsers Kindes zuzulassen und die damit verbundenen intensiven 
 Gefühle mit ihm aushalten können, finden wir in diesem Workshop heraus.\nLe
 itung: Xenia Wagner-Deutsch, MA Bildungswissenschafterin,\n Pädagogin für K
 rippe, Kindergarten und VS, Mutter \n Termine:\n\n Mittwoch, 05.07.23, 10:3
 0 - 12:30 Uhr (Präsenz im Kind&amp;Kegel)\n Kosten: € 23,- (€ 35,- für Paar
 e),\n Anmeldung erforderlich !\n \n
X-ALT-DESC;FMTTYPE=text/html:<h2 class="unterstrich">Wut, Verzweiflung, Frust – und nun?<br /> über Klar
 heit, Kommunikation und Verantwortung [Workshop]</h2><p>&nbsp;</p><p>Als El
 tern müssen wir immer wieder Entscheidungen treffen, die unangenehm für das
  Kind sind und mitunter Schmerz, Wut und ärger hervorrufen.</p><p>&nbsp;</p
 ><p>Wie wir mit dem dadurch ausgelösten Frust umgehen können, die Gefühle u
 nsers Kindes zuzulassen und die damit verbundenen intensiven Gefühle mit ih
 m aushalten können, finden wir in diesem Workshop heraus.</p><p><span class
 ="fett">Leitung:</span> Xenia Wagner-Deutsch, MA Bildungswissenschafterin,<
 br /> Pädagogin für Krippe, Kindergarten und VS, Mutter <br /> <span class=
 "fett">Termine</span>:<br /><br /> Mittwoch, 05.07.23, 10:<span class="klei
 nhoch">30</span> - 12:<span class="kleinhoch">30</span> Uhr (Präsenz im Kin
 d&amp;Kegel)<br /> <span class="fett">Kosten</span>: € 23,- (€ 35,- für Paa
 re),<br /> Anmeldung erforderlich !</p><p>&nbsp;</p>
CONTACT:01 503 71 88, info@kind-und-kegel.at, www.kind-und-kegel.at
X-EXTRAINFO:[preis='2300'][anmeldung='true']
DTSTAMP:20260425T121910
DTSTART:20230705T083000
DTEND:20230705T103000
SEQUENCE:0
TRANSP:OPAQUE
END:VEVENT
END:VCALENDAR