BEGIN:VCALENDAR
VERSION:2.0
PRODID:-//jEvents 2.0 for Joomla//EN
CALSCALE:GREGORIAN
METHOD:PUBLISH
BEGIN:VEVENT
UID:0695d88221d72a3859568105d6ae9504
CATEGORIES:14. Bezirk
CREATED:20230628T110031
SUMMARY:Erste Hilfe Kurs - Baby & Kleinkinder
LOCATION:Leegasse 10/21\, 1140 Wien
DESCRIPTION:<h4 style="color: #8a1878; font-family: 'Roboto Condensed', sans-serif; fon
 t-size: 15px;">Inhalt:</h4><ul style="color: #000000; font-family: 'Roboto 
 Condensed', sans-serif; font-size: 15px;"><li>Fremdkörperaspiration / Versc
 hlucken</li><li>Kollaps</li><li>Bewusstlosigkeit</li><li>Herz-Kreislauf-Sti
 llstand</li><li>praktisches Üben mit Puppen</li><li>Verbrennung/Verbrühung<
 /li><li>Vergiftung / Verätzung</li><li>Insektenstich / allergische Reaktion
 </li><li>Prävention von Unfällen</li><li>Notfallnummern &amp; Anlaufstellen
 </li><li>Verbandkasten &amp; Reiseapotheke</li></ul><h4 style="color: #8a18
 78; font-family: 'Roboto Condensed', sans-serif; font-size: 15px;">FAQs:</h
 4><ul style="color: #000000; font-family: 'Roboto Condensed', sans-serif; f
 ont-size: 15px;"><li>du darfst dein Baby/Kleinkind gerne mitnehmen</li><li>
 für dein Kind gibt es genügend Spielmöglichkeiten</li><li>eine kleine Pause
  ist eingeplant</li><li>für Snacks, Kaffee &amp; Tee ist gesorgt</li><li>du
  brauchst keine Vorkenntnisse</li><li>du musst nichts bestimmtes mitnehmen<
 /li><li>bei weiteren Fragen melde dich gerne unter&nbsp;<a href="mailto:kon
 takt@neugeborgen.at" style="color: #8a1878; text-decoration-line: none;">ko
 ntakt@neugeborgen.at</a>&nbsp;</li></ul><h4 style="color: #8a1878; font-fam
 ily: 'Roboto Condensed', sans-serif; font-size: 15px;">Über uns:</h4><h4 st
 yle="color: #8a1878; font-family: 'Roboto Condensed', sans-serif; font-size
 : 15px;">Martina Six</h4><ul style="color: #000000; font-family: 'Roboto Co
 ndensed', sans-serif; font-size: 15px;"><li>Dipl. Kinderintensivkrankenpfle
 gerin</li><li>NLS-Instruktorin</li></ul><h4 style="color: #8a1878; font-fam
 ily: 'Roboto Condensed', sans-serif; font-size: 15px;">Corina Zaloha</h4><u
 l style="color: #000000; font-family: 'Roboto Condensed', sans-serif; font-
 size: 15px;"><li>Dipl. Kinderintensivkrankenpflegerin</li><li>IBCLC Still- 
 und Laktationsberaterin</li><li>Fachkraft für babygeleitete Beikost</li><li
 >diverse Fortbildungen in BLS und NLS</li></ul>
CONTACT:kontakt@neugeborgen.at
X-EXTRAINFO:[preis='8500'][anmeldung='true']
DTSTAMP:20260423T161915
DTSTART:20230630T150000
DTEND:20230630T180000
SEQUENCE:0
TRANSP:OPAQUE
END:VEVENT
END:VCALENDAR