BEGIN:VCALENDAR
VERSION:2.0
PRODID:-//jEvents 2.0 for Joomla//EN
CALSCALE:GREGORIAN
METHOD:PUBLISH
BEGIN:VEVENT
UID:aaa43947e6efb205ce2dc3e6ebd95da4
CATEGORIES:8. Bezirk
CREATED:20230629T120005
SUMMARY:FÜHRUNG IM VOLKSKUNDEMUSEUM: Mit dem Baby ins Museum
LOCATION:Volkskundemuseum Wien\, Laudongasse 15\, 1080 Wien
DESCRIPTION:<p class="MsoNormal" style="text-align: justify;">Raus aus dem Alltag und a
 uf Entdeckungsreise ins Volkskundemuseum Wien! Abgestimmt auf die Bedürfnis
 se von Eltern mit Babys führen Vermittlerinnen des Museums durch die volksk
 undliche Schausammlung.</p><p class="MsoNormal" style="text-align: justify;
 ">Nehmen Sie an einer kurzweiligen, entspannten Tour teil und genießen Sie 
 im Anschluss mit Ihrem Nachwuchs unseren Museumsgarten oder den angrenzende
 n Schönbornpark.</p><p class="MsoNormal" style="text-align: justify;">Wir e
 mpfehlen Tragehilfen. Aufzug und Platz für Kinderwägen sind vorhanden, eben
 so ein Rückzugsort fürs Stillen.</p><p class="MsoNormal" style="text-align:
  justify;"><span style="mso-spacerun: yes;"></span></p><p class="MsoNormal"
  style="text-align: justify;">Für Erwachsene mit Babys bis ca. 10 Monate</p
 ><p class="MsoNormal" style="text-align: justify;">Dauer: 60 Minuten</p><p 
 class="MsoNormal" style="text-align: justify;">Kosten: Eintritt + € 4,- Füh
 rungstarif pro Erw.</p>
CONTACT:https://www.volkskundemuseum.at/fuehrung_2023-07-12
X-EXTRAINFO:[preis='400'][anmeldung='true']
DTSTAMP:20260423T095933
DTSTART:20230712T083000
DTEND:20230712T093000
SEQUENCE:0
TRANSP:OPAQUE
END:VEVENT
END:VCALENDAR