BEGIN:VCALENDAR
VERSION:2.0
PRODID:-//jEvents 2.0 for Joomla//EN
CALSCALE:GREGORIAN
METHOD:PUBLISH
BEGIN:VEVENT
UID:9d4f746caa329ae5dbd251d54326ef6c
CATEGORIES:12. Bezirk
CREATED:20230629T225523
SUMMARY:Mama Workshop - Euer Rhythmus im Mamaalltag
LOCATION:Careccino - Sagedergasse 18-22\, 1120 Wien
DESCRIPTION:<div><p>Im Mama Workshop widmen wir uns 2 Stunden lang, in einer Kleingrupp
 e, einem bestimmten Thema aus dem Mamaalltag.</p></div><p>Neben Wissen, hil
 freichen Umsetzungstipps und Impulsen, die deine Sichtweise auf das Thema ä
 ndern, kommst du direkt in die Reflexion.</p><p>Du bekommst also nicht nur 
 theoretisches Wissen, sondern wendest es direkt auf dich und deine individu
 elle Situation an. Damit&nbsp; kannst du sofort in die Umsetzung starten un
 d mehr Zufriedenheit für dich und dein Kind schaffen.</p><h5><strong>Thema 
 dieses Mama Workshops ist:</strong></h5><p>"Euer Rhythmus im Mamaalltag" - 
 Wie gestaltest du den Alltag so, dass er für dich und dein Baby stimmig ist
 ? Wie kannst du allen Anforderungen des täglichen Mamaalltags gerecht werde
 n? Auf was kommt es dabei an? Tipps für die Alltagsorganisation und den The
 men Mental Load, Me-Time, Zeit für euch als Paar.</p><p><strong>Eine kleine
  Gruppe von max. 6 Teilnehmerinnen.</strong></p><p>Babys und Kleinkinder si
 nd herzlich willkommen. Entscheide bitte selbst, ob du dein Kind mitbringen
  möchtest und wie gut du neben deinem Kind auch in Reflexion kommen kannst.
 </p><h5><strong>Kosten:</strong> 35€</h5><p>Der Spielebeitrag eines Kindes 
 ist im Preis inkludiert ebenso wie ein Worksbook mit Reflexionsfragen</p><p
 >Schau dir gerne auch die anderen Termine und Themen an.</p><h5><strong>Buc
 hung:</strong></h5><p>Du kannst direkt über meine Homepage <a href="https:/
 /www.hannalind.at">www.hannalind.at/aktuelle-termine</a> buchen und dort üb
 er Stripe mit deiner Kreditkarte bezahlen. UND du kannst dich per E-Mail un
 ter <a href="mailto:mail@hannalind.at">mail@hannalind.at</a> anmelden, dann
  schicke ich dir eine Rechnung zu und du überweist.</p><p><strong>Ich freue
  mich so sehr auf dich!<em><br /></em></strong></p><p>Hanna</p><p>&nbsp;</p
 >
CONTACT:Hanna Lind - mail@hannalind.at, www.hannalind.at
X-EXTRAINFO:[preis='3500'][anmeldung='true']
DTSTAMP:20260423T124607
DTSTART:20230706T080000
DTEND:20230706T100000
SEQUENCE:0
TRANSP:OPAQUE
END:VEVENT
END:VCALENDAR