BEGIN:VCALENDAR
VERSION:2.0
PRODID:-//jEvents 2.0 for Joomla//EN
CALSCALE:GREGORIAN
METHOD:PUBLISH
BEGIN:VEVENT
UID:7574b9e6d0a247dac9e861472d3f49fd
CATEGORIES:8. Bezirk
CREATED:20230703T092815
SUMMARY:Kinderchor (6-10 Jahre) Schnupperkurs
LOCATION:VHS Josefstadt\, Schmidgasse 18\, 1080 Wien
DESCRIPTION:<p>10584093 Kinderchor (6-10 Jahre) Schnupperkurs</p><p>Mo 1x, 11.09.2023, 
 15:30-16:30 Uhr</p><p>&nbsp;</p><p>Im Rahmen der Lange Nacht der Volksbildu
 ng 2023.</p><p>Singen in der Gruppe fördert die Konzentration und die sozia
 le Kompetenz - und macht Spaß!</p><p>Anhand von kindgerechten Musicals, Pop
 - und Volksliedern und vielem mehr entdecken die Kinder ihre eigene Stimme 
 und einen spielerischen Zugang zum Notenlesen.</p><p>&nbsp;</p><p>Anmeldung
 en sind erforderlich!</p><p>&nbsp;</p>
CONTACT:josefstadt@vhs.at
X-EXTRAINFO:[preis='000'][anmeldung='true']
DTSTAMP:20260423T100119
DTSTART:20230911T133000
DTEND:20230911T143000
SEQUENCE:0
TRANSP:OPAQUE
END:VEVENT
END:VCALENDAR