BEGIN:VCALENDAR
VERSION:2.0
PRODID:-//jEvents 2.0 for Joomla//EN
CALSCALE:GREGORIAN
METHOD:PUBLISH
BEGIN:VEVENT
UID:d794c25ef801b95f56b6a7846e6a71ad
CATEGORIES:8. Bezirk
CREATED:20230703T101546
SUMMARY:Theater! Jetzt! (7-11 Jahre)
LOCATION:VHS Josefstadt\, Schmidgasse 18\, 1080 Wien
DESCRIPTION:<p>10594665 Theater! Jetzt! (7-11 Jahre)</p><p>Kindertheaterworkshop&nbsp;<
 /p><p>Do 1x, 14.12.2023, 14-16 Uhr</p><p>&nbsp;</p><p>Wie du in eine Rolle 
 schlüpfst und aus deinen Ideen mit anderen zusammen eine Miniszene baust, o
 der einfach nur Spaß daran hast, dich einmal lautstark in Szene zu setzen: 
 Das alles kannst du nach Lust und Laune hier tun! – Nebenbei erforschen wir
  unsere Stimme, unser Rhythmusgefühl und wie unser Körper auch ohne Worte s
 prechen kann. Wir tauschen unsere Lieblingsgeschichten aus und erfinden ein
 e eigene, die wir unseren Eltern und Freunden am Ende zeigen, wenn wir das 
 wollen. Sei dabei!</p><p>Dieser Workshop kann auch in Zusammenarbeit mit Le
 hrer:innen nach laufenden Unterrichtsthemen gestaltet werden.</p><p>&nbsp;<
 /p><p>Termine:</p><p>14.12.2023, 14:00 - 16:00</p><p>&nbsp;</p><p><strong><
 a href="https://www.vhs.at/de/k/279655117">Zur Buchung</a></strong></p>
CONTACT:josefstadt@vhs.at
X-EXTRAINFO:[preis='1300'][anmeldung='true']
DTSTAMP:20260423T123447
DTSTART:20231214T130000
DTEND:20231214T150000
SEQUENCE:0
TRANSP:OPAQUE
END:VEVENT
END:VCALENDAR