BEGIN:VCALENDAR
VERSION:2.0
PRODID:-//jEvents 2.0 for Joomla//EN
CALSCALE:GREGORIAN
METHOD:PUBLISH
BEGIN:VEVENT
UID:c2ba585452bb24d56c7214f919af1186
CATEGORIES:19. Bezirk
CREATED:20230703T122621
SUMMARY:Spiel & Spaß im Sommer zum Ausprobieren
LOCATION:Raum Ida im Q19
DESCRIPTION:Ich biete jetzt in der warmen Jahreszeit Einzelstunden unserer Spiel &amp; 
 Spaß Gruppe an, einerseits zum Kennenlernen, andererseits, damit ihr euch n
 icht 5 Wochen binden müsst, weil viele im Juni und Juli auf Urlaub sind. Ab
  September gibt es dann wieder 5-Wochen Kurse!\nIn dieser Stunde sollen Kin
 der und Erwachsene gemeinsam viel Spaß haben. Das freie Spiel steht im Vord
 ergrund. Nebenbei werden motorische Fähigkeiten geschult, alle Sinne geförd
 ert und erste soziale Kontakte zu Gleichaltrigen gemacht.\nAuch die "Großen
 " können Erfahrungen austauschen und neue Kontakte knüpfen.\n \n
X-ALT-DESC;FMTTYPE=text/html:<p>Ich biete jetzt in der warmen Jahreszeit Einzelstunden unserer Spiel &am
 p; Spaß Gruppe an, einerseits zum Kennenlernen, andererseits, damit ihr euc
 h nicht 5 Wochen binden müsst, weil viele im Juni und Juli auf Urlaub sind.
  Ab September gibt es dann wieder 5-Wochen Kurse!</p><p>In dieser Stunde so
 llen Kinder und Erwachsene gemeinsam viel Spaß haben. Das freie Spiel steht
  im Vordergrund. Nebenbei werden motorische Fähigkeiten geschult, alle Sinn
 e gefördert und erste soziale Kontakte zu Gleichaltrigen gemacht.</p><p>Auc
 h die "Großen" können Erfahrungen austauschen und neue Kontakte knüpfen.</p
 ><p>&nbsp;</p>
CONTACT:www.spielringel.at
X-EXTRAINFO:[preis='1600'][anmeldung='true']
DTSTAMP:20260423T081621
DTSTART:20230704T090000
DTEND:20230704T100000
SEQUENCE:0
TRANSP:OPAQUE
END:VEVENT
END:VCALENDAR