BEGIN:VCALENDAR
VERSION:2.0
PRODID:-//jEvents 2.0 for Joomla//EN
CALSCALE:GREGORIAN
METHOD:PUBLISH
BEGIN:VEVENT
UID:dbec10f51fe43f8b4ee5407659fbecb2
CATEGORIES:19. Bezirk
CREATED:20230703T122905
SUMMARY:Musikgarten Baby im Sommer zum Ausprobieren am Vormittag
LOCATION:Raum Ida im Q19
DESCRIPTION:<p>Es gibt keine wichtigere Zeit für die Entwicklung eines Kindes als die e
 rsten Lebensjahre, keinen wichtigeren Platz als sein Zuhause und keinen wic
 htigeren Menschen als seine Bezugsperson. Der Musikgarten für Babys lädt Ba
 bys bis 18 Monaten und deren Eltern zum musikalischen Spiel ein. Durch geme
 insames Singen, Musizieren, Bewegen und Musikhören können die Kinder ihre a
 ngeborene musikalische Sprache entdecken und Freude daran finden. Langzeits
 tudien bestätigen inzwischen den positiven Einfluss von musikalischer Erzie
 hung auf die ganzheitliche Entwicklung des Kindes: auf die musikalische Beg
 abung, die soziale Kompetenz und das Lernen in vielerlei Hinsicht.</p><head
 er class="frame-header"><h2 class="element-header"><span>Einzeleinheit zum 
 Ausprobieren</span></h2></header><p>&nbsp;</p>
CONTACT:www.spielringel.at
X-EXTRAINFO:[preis='1600'][anmeldung='true']
DTSTAMP:20260423T124041
DTSTART:20230808T073000
DTEND:20230808T081500
SEQUENCE:0
TRANSP:OPAQUE
END:VEVENT
END:VCALENDAR