BEGIN:VCALENDAR
VERSION:2.0
PRODID:-//jEvents 2.0 for Joomla//EN
CALSCALE:GREGORIAN
METHOD:PUBLISH
BEGIN:VEVENT
UID:caab185d347a30d36b54ac800c4fd2e1
CATEGORIES:18. Bezirk
CREATED:20230703T125621
SUMMARY:Mit allen Sinnen
LOCATION:Spielringel\, Mollgasse 11-13
DESCRIPTION:Mit allen SinnenSinnneserlebnis für Kinder ab dem Krabbelalter bis 3 Jahren
 Mit: Claudia (https://spielringel.at/angebote/das-team/claudia)\nKurstag:  
 Montag 10:00-11:30\nTermine:  17.07.\nKosten:  €20,- pro Kind mit Begleitpe
 rson für einen Termin\nDie Kinder können nach Herzenslust mit verschiedenen
  Materialien (wie zum Beispiel Reis, Wasser, selbstgemachten Fingerfarben u
 nd Schleim) matschen, gatschen, schütten, spielen und experimentieren. Dabe
 i werden ihre sensomotorischen Fähigkeiten und ihre Kreativität gefördert. 
 Die Eltern haben die Möglichkeit, ihre Kinder bei den verschiedenen Spielst
 ationen in dieser Entdeckungsreise zu begleiten und zu unterstützen.\nDein 
 Baby wird schmutzig werden. Am besten du lässt es in Windeln oder Unterhose
  spielen oder ziehst ihm Gewand an, dass auch schmutzig werden darf und ver
 giss nicht ein Handtuch und Wechselgewand mitzunehmen!\n \n
X-ALT-DESC;FMTTYPE=text/html:<header class="frame-header"><h2 class="element-header">Mit allen Sinnen</h
 2><h4>Sinnneserlebnis für Kinder ab dem Krabbelalter bis 3 Jahren</h4></hea
 der><div class="textpic-item textpic-gallery"><div class="gallery-row"><div
  class="gallery-item gallery-item-size-1"><p><span class="text-primary font
 -weight-bold">Mit: </span><a href="https://spielringel.at/angebote/das-team
 /claudia">Claudia</a></p><p><span class="text-primary font-weight-bold">Kur
 stag: </span> Montag 10:00-11:30</p><p><span class="text-primary font-weigh
 t-bold">Termine: </span> 17.07.</p><p><span class="text-primary font-weight
 -bold">Kosten: </span> €20,- pro Kind mit Begleitperson für einen Termin</p
 ><p>Die Kinder können nach Herzenslust mit verschiedenen Materialien (wie z
 um Beispiel Reis, Wasser, selbstgemachten Fingerfarben und Schleim) matsche
 n, gatschen, schütten, spielen und experimentieren. Dabei werden ihre senso
 motorischen Fähigkeiten und ihre Kreativität gefördert. Die Eltern haben di
 e Möglichkeit, ihre Kinder bei den verschiedenen Spielstationen in dieser E
 ntdeckungsreise zu begleiten und zu unterstützen.</p><p>Dein Baby wird schm
 utzig werden. Am besten du lässt es in Windeln oder Unterhose spielen oder 
 ziehst ihm Gewand an, dass auch schmutzig werden darf und vergiss nicht ein
  Handtuch und Wechselgewand mitzunehmen!</p></div></div></div><p>&nbsp;</p>
CONTACT:www.spielringel.at
X-EXTRAINFO:[preis='2000'][anmeldung='true']
DTSTAMP:20260423T141651
DTSTART:20230717T080000
DTEND:20230717T093000
SEQUENCE:0
TRANSP:OPAQUE
END:VEVENT
END:VCALENDAR