BEGIN:VCALENDAR
VERSION:2.0
PRODID:-//jEvents 2.0 for Joomla//EN
CALSCALE:GREGORIAN
METHOD:PUBLISH
BEGIN:VEVENT
UID:b1239ec50b5ccd3f661d4414ecdbe7c1
CATEGORIES:18. Bezirk
CREATED:20230703T125841
SUMMARY:Musik mit Susanne für Babys am Montag Vormittag
LOCATION:Spielringel\, Mollgasse 11-13
DESCRIPTION:für Babys (6-14 Monate) \nEinzeltermin zum Kennenlernen\nMit: Susanne (http
 s://spielringel.at/angebote/das-team/susanne)\nKurstag:  Montag 10:45-11:30
 \nTermine:  Einzeltermine am 24.07., 31.07., 07.08. und 21.08.\nKosten:  €1
 6,- (Einzeltermin)\n„Musikalität ist vor allem die Fähigkeit von Musik berü
 hrt zu werden."\nEs wird dem Alter und der Entwicklung der Babys entspreche
 nd, gespielt, gesungen, getanzt und musiziert. Musik fördert die Entwicklun
 g von Babys: Sie ist gut für die Bewegungskoordination, die Sprachentwicklu
 ng, den Gleichgewichtssinn und die Bindung zur Bezugsperson. Das beste dara
 n ist, dass es einfach Freude macht!\nAn diesem Einzeltermin kannst du dir 
 ansehen, wie eine Einheit der Spielgruppe mit Musik ablaufen kann. Bitte gi
 b an, ob du am 24.07., 31.07., 07.08. oder 21.08. teilnehmen willst! Bei gl
 eichzeitiger Buchung von zwei oder mehr Terminen unserer Sommerangebote gib
 t es 5% Rabatt!\n  \n
X-ALT-DESC;FMTTYPE=text/html:<div class="textpic-item textpic-text"><h4>für Babys (6-14 Monate)</h4><p>&
 nbsp;</p><p>Einzeltermin zum Kennenlernen</p><p><span class="text-primary f
 ont-weight-bold">Mit: </span><a href="https://spielringel.at/angebote/das-t
 eam/susanne">Susanne</a></p><p><span class="text-primary font-weight-bold">
 Kurstag: </span> Montag 10:45-11:30</p><p><span class="text-primary font-we
 ight-bold">Termine: </span> Einzeltermine am 24.07., 31.07., 07.08. und 21.
 08.</p><p><span class="text-primary font-weight-bold">Kosten: </span> €16,-
  (Einzeltermin)</p><p>„Musikalität ist vor allem die Fähigkeit von Musik be
 rührt zu werden."</p><p>Es wird dem Alter und der Entwicklung der Babys ent
 sprechend, gespielt, gesungen, getanzt und musiziert. Musik fördert die Ent
 wicklung von Babys: Sie ist gut für die Bewegungskoordination, die Sprachen
 twicklung, den Gleichgewichtssinn und die Bindung zur Bezugsperson. Das bes
 te daran ist, dass es einfach Freude macht!</p><p>An diesem Einzeltermin ka
 nnst du dir ansehen, wie eine Einheit der Spielgruppe mit Musik ablaufen ka
 nn. Bitte gib an, ob du am 24.07., 31.07., 07.08. oder 21.08. teilnehmen wi
 llst! Bei gleichzeitiger Buchung von zwei oder mehr Terminen unserer Sommer
 angebote gibt es 5% Rabatt!</p></div><div id="c866" class="frame frame-defa
 ult frame-type-form_formframework frame-layout-0 frame-background-none fram
 e-no-backgroundimage frame-space-before-none frame-space-after-none"><div c
 lass="frame-container"><div class="frame-inner"><div class="form-container 
 form-identifier-anmeldeformular-866"><form enctype="multipart/form-data" me
 thod="post" novalidate="novalidate" id="anmeldeformular-866"><div>&nbsp;</d
 iv><input autocomplete="SZyzoCMmrO7Xbt0uq" name="tx_form_formframework[anme
 ldeformular-866][SZyzoCMmrO7Xbt0uq]" type="text" id="anmeldeformular-866-SZ
 yzoCMmrO7Xbt0uq" style="position: absolute; margin: 0 0 0 -999em;" tabindex
 ="-1" aria-hidden="true" /><div class="form-actions"><nav class="form-navig
 ation"><div class="btn-toolbar" role="toolbar"><div class="btn-group" role=
 "group"><span class="btn-group next"></span></div></div></nav></div></form>
 </div></div></div></div><p>&nbsp;</p>
CONTACT:www.spielringel.at
X-EXTRAINFO:[preis='1600'][anmeldung='true']
DTSTAMP:20260423T160200
DTSTART:20230724T084500
DTEND:20230724T093000
SEQUENCE:0
TRANSP:OPAQUE
END:VEVENT
END:VCALENDAR